
BEGIN:VCALENDAR
VERSION:2.0
PRODID:-//wp-events-plugin.com//7.2.3.1//EN
TZID:Europe/Paris
X-WR-TIMEZONE:Europe/Paris
BEGIN:VEVENT
UID:428@spp.asso.fr
DTSTART;TZID=Europe/Paris;VALUE=DATE:20231202
DTEND;TZID=Europe/Paris;VALUE=DATE:20231205
DTSTAMP:20231207T110637Z
URL:https://www.spp.asso.fr/events/10e-colloque-bbados-du-bebe-a-ladolesce
 nt-lombre-du-moi-entre-double-et-miroir/
SUMMARY:10e COLLOQUE BBADOS DU BÉBÉ À L’ADOLESCENT : L’OMBRE DU MOI 
 - Entre double et miroir
DESCRIPTION:[pdf-embedder url="https://www.spp.asso.fr/wp-content/uploads/2
 023/11/Plaquette-BBados-2023-3.pdf" title="Plaquette Colloque BBados 2023"
  width="100%"]\n\n&nbsp\;\nInscription sur le site carnet.psy
ATTACH;FMTTYPE=image/jpeg:https://www.spp.asso.fr/wp-content/uploads/2023/
 11/Colloque-BBados-2023_ima-2.jpg
CATEGORIES:Colloques
LOCATION:Maison de la Chimie\, 28 bis rue Saint-Dominique\, Paris\, 75007\,
  France
GEO:48.860019;2.316485
X-APPLE-STRUCTURED-LOCATION;VALUE=URI;X-ADDRESS=28 bis rue Saint-Dominique\
 , Paris\, 75007\, France;X-APPLE-RADIUS=100;X-TITLE=Maison de la Chimie:ge
 o:48.860019,2.316485
END:VEVENT
BEGIN:VTIMEZONE
TZID:Europe/Paris
X-LIC-LOCATION:Europe/Paris
BEGIN:STANDARD
DTSTART:20231029T020000
TZOFFSETFROM:+0200
TZOFFSETTO:+0100
TZNAME:CET
END:STANDARD
END:VTIMEZONE
END:VCALENDAR