
BEGIN:VCALENDAR
VERSION:2.0
PRODID:-//wp-events-plugin.com//7.2.3.1//EN
TZID:Europe/Paris
X-WR-TIMEZONE:Europe/Paris
BEGIN:VEVENT
UID:168@spp.asso.fr
DTSTART;TZID=Europe/Paris:20200307T090000
DTEND;TZID=Europe/Paris:20200308T170000
DTSTAMP:20191208T195623Z
URL:https://www.spp.asso.fr/events/1eres-journees-du-groupe-de-recherche-p
 sychanalyse-en-mediterranee-les-reves-en-mediterranee/
SUMMARY:1ères Journées du Groupe de Recherche « Psychanalyse en Médi
 terranée» : Les rêves en Méditerranée
DESCRIPTION:L’Association Tunisienne pour le Développement de la Psychan
 alyse (ATDP)\,\nLe Laboratoire de Psychologie Clinique : Intersubjectivit
 é et culture (LPCIC)\norganisent\n&nbsp\;\n1ères Journées du Groupe de
  Recherche International\n« Psychanalyse en Méditerranée »\n&nbsp\
 ;\n»\nKélibia\, Tunisie\, les 7-8 mars 2020\n&nbsp\;\n\nComité scientif
 ique :\nRiadh Ben Rejeb\nBianca Lechevalier\n\nComité d’organisation 
 :\nATDP &amp\; LPCIC\n\nContact : Riadhbenrejeb@yahoo.fr\n\nFrais d’ins
 cription :\n100 Euros (étrangers)\n100 DT (Tunisiens)\nAu profit de l’
 ATDP\n\nAvec la collaboration de l’UTAIM de Kélibia\n\nAppel à présen
 tation dans des groupes-ateliers :\n\n L’objectif de ce Groupe de Rec
 herche est de mener une réflexion autour de questions qui peuvent spécif
 ier les cultures du bassin méditerranéen (universaux et différences).\n
 \nCes études et recherches articulent le psychique au social\, la place d
 e l’individuel par rapport au collectif et groupal\, la place des objets
  culturels dans les croyances et les prises en charge psychanalytiques. Y 
 a-t-il une particularité dans le mode de fonctionnement d'un psychanalyst
 e baigné dans le monde méditerranéen ?\n\nCes premières journées trai
 teront du vaste thème « Les rêves en Méditerranée » : images\, hi
 stoires\, représentations\, des rêves de Gilgamesh aux rêves prémonito
 ires.\n\nConférences confirmées de :\n\nBianca Lechevalier\, Nayla De C
 oster\, Nicole Geblesco et Riadh Ben Rejeb\n\nAvec la présence et partici
 pation des membres du Groupe de Recherche « Psychanalyse en Méditerran
 ée »:\n\nBianca Lechavalier  (France)\, Riadh Ben Rejeb (Tunisie)\, N
 ayla de Coster (Liban)\, Jorge Camara (Portugal)\, Maria Teresa Flores 
 (Portugal) \; Sesto Marcello Passone (France)\, Franco d’Alberton (It
 alie) et Nicole Geblesco (Monaco).\n\nAvec le soutien et la présence de :
  Alain Gibeault (IPA)\,  Nicole Geblesco (Monaco\, Groupe Méditerranée 
 de la SPP)\, Bernard Bensidoun (Toulouse)\, Bella Habip (Turquie)\, Martin
 e Miquel GM/SPP)\, Daniel Metge (Toulouse)\, Remi Puyuelo (Toulouse)\, et 
 bien d’autres.
CATEGORIES:-évènement int.
END:VEVENT
BEGIN:VTIMEZONE
TZID:Europe/Paris
X-LIC-LOCATION:Europe/Paris
BEGIN:STANDARD
DTSTART:20191027T020000
TZOFFSETFROM:+0200
TZOFFSETTO:+0100
TZNAME:CET
END:STANDARD
END:VTIMEZONE
END:VCALENDAR