
BEGIN:VCALENDAR
VERSION:2.0
PRODID:-//wp-events-plugin.com//7.2.3.1//EN
TZID:Europe/Paris
X-WR-TIMEZONE:Europe/Paris
BEGIN:VEVENT
UID:92@spp.asso.fr
DTSTART;TZID=Europe/Paris:20191012T090000
DTEND;TZID=Europe/Paris:20191013T130000
DTSTAMP:20191003T143706Z
URL:https://www.spp.asso.fr/events/23emes-journees-de-honfleur-12-13-octob
 re-2019/
SUMMARY:23èmes journées de Honfleur\, 12-13 octobre 2019
DESCRIPTION:23èmes journées de Honfleur\n12 et 13 octobre 2019\n Invité
 e\nElsa Schmid Kitsikis\n&nbsp\;\n\nInscription :\nCathy Jacquot : cathy
 .jacquot.spp@gmail.com
CATEGORIES:Colloques,Conférences,Groupe Normand,Province
LOCATION:MHôtel\, 62 cours Albert Manuel\, Honfleur\, 14600\, France
X-APPLE-STRUCTURED-LOCATION;VALUE=URI;X-ADDRESS=62 cours Albert Manuel\, Ho
 nfleur\, 14600\, France;X-APPLE-RADIUS=100;X-TITLE=MHôtel:geo:0,0
END:VEVENT
BEGIN:VTIMEZONE
TZID:Europe/Paris
X-LIC-LOCATION:Europe/Paris
BEGIN:DAYLIGHT
DTSTART:20190331T030000
TZOFFSETFROM:+0100
TZOFFSETTO:+0200
TZNAME:CEST
END:DAYLIGHT
END:VTIMEZONE
END:VCALENDAR