
BEGIN:VCALENDAR
VERSION:2.0
PRODID:-//wp-events-plugin.com//7.2.3.1//EN
TZID:Europe/Paris
X-WR-TIMEZONE:Europe/Paris
BEGIN:VEVENT
UID:88@spp.asso.fr
DTSTART;TZID=Europe/Paris:20190312T203000
DTEND;TZID=Europe/Paris:20190312T230000
DTSTAMP:20181026T104910Z
URL:https://www.spp.asso.fr/events/25926/
SUMMARY:Cycle de cinq conférences à Lyon sur L'intime - conférence d'Emm
 anuelle Chervet
DESCRIPTION:Emmanuelle CHERVET\, Psychanalyste SPP et GLPRA\nLe travail ana
 lytique : une construction de l’espace intime.\nmardi 12 mars 2019\n\nP
 résentation\n\nAu décours d’un traitement analytique\, la menace que r
 eprésentent les forces internes sauvages et inconnues s’atténue. Cela 
 permet de détendre les appuis trouvés jusqu’ici dans la réalité\, le
  groupe\, certains liens ou idéaux aliénants – ce qui ne va pas sans c
 rises. Un espace intime s’installe\, s’enrichit\, se conflictualise à
  mesure que les auto-érotismes se réorganisent. Les éprouvés corporels
  se transforment. Un quant-à-soi devient compatible avec de plus grandes 
 intensités émotionnelles et pulsionnelles\, le for intérieur a moins be
 soin d’être sur la défensive. Les engagements dans la réalité se tra
 nsformeront secondairement et par conséquence.\n\nPalais de la Mutualité
 \n1 place Antonin Jutard\, 69003 LYON\nà 20h30 (Ouverture des portes à 
 20h00)\nAttention\, au-delà de 20h30\, nous ne pouvons garantir l’acc
 ès à la salle\n\nTélecharger le programme du cycle des cinq conférence
 s sur l'intime\nTélecharger le bulletin d'inscription\n\nVous êtes inscr
 it à réception du bulletin d’inscription et du règlement\, soit par c
 ourrier\, soit en ligne (sur notre site) dans la limite des places disponi
 bles et dans le délai imparti aux pré-inscriptions.\nLa bibliographie es
 t disponible en ligne sur notre site.\nLes attestations de présence et de
  paiement sont uniquement délivrées à l’entrée le jour de la confér
 ence.\nPour la formation professionnelle continue\, un dossier préalable 
 devra être réalisé par l’employeur.\nN° de dispensateur de formation
  : 82 69 05 500-69
CATEGORIES:Colloques,Conférences,Groupe Lyonnais - Grenoble AGPsy,Groupe
 Lyonnais - Rhône-Alpes,Groupe Lyonnais - Savoie CEPS
LOCATION:Palais de la Mutualité\, 1 place Antonin Jutard\, LYON\, France
X-APPLE-STRUCTURED-LOCATION;VALUE=URI;X-ADDRESS=1 place Antonin Jutard\, LY
 ON\, France;X-APPLE-RADIUS=100;X-TITLE=Palais de la Mutualité:geo:0,0
END:VEVENT
BEGIN:VTIMEZONE
TZID:Europe/Paris
X-LIC-LOCATION:Europe/Paris
BEGIN:STANDARD
DTSTART:20181028T020000
TZOFFSETFROM:+0200
TZOFFSETTO:+0100
TZNAME:CET
END:STANDARD
END:VTIMEZONE
END:VCALENDAR