
BEGIN:VCALENDAR
VERSION:2.0
PRODID:-//wp-events-plugin.com//7.2.3.1//EN
TZID:Europe/Paris
X-WR-TIMEZONE:Europe/Paris
BEGIN:VEVENT
UID:262@spp.asso.fr
DTSTART;TZID=Europe/Paris:20210918T090000
DTEND;TZID=Europe/Paris:20210918T173000
DTSTAMP:20220109T194832Z
URL:https://www.spp.asso.fr/events/2eme-colloque-du-pole-psychanalytique-d
 e-lasm-13-lassociativite-lors-de-la-premiere-rencontre/
SUMMARY:2ème colloque du Pôle psychanalytique de l'ASM 13 - L'associativi
 té lors de la première rencontre
DESCRIPTION:2ème colloque du Pôle Psychanalytique de l'ASM13\nen partena
 riat avec la Société Psychanalytique de Paris\nL'ASSOCIATIVITÉ LORS DE
  LA PREMIERE RENCONTRE\nSAMEDI 18 SEPTEMBRE 2021\n9h00 à 17h30\nsur pla
 ce (ASM 13\, dans la limite des places disponibles) et en visioconféren
 ce\n\n&nbsp\;\n\nPrésentation\n\nDès 1891 Freud crée un schéma montran
 t que la représentation psychique peut être comprise comme un réseau et
  que la psyché est basée sur un fonctionnement associatif.\n\nDe ce fonc
 tionnement associatif découle l’association libre proposée au patient 
 en psychanalyse\, reposant sur le modèle verbal avec pour présupposé qu
 e la communication est projetée sur l’objet-analyste qui doit en captur
 er le sens et lui donner forme : la situation analytique peut être envisa
 gée comme un retour sur soi à travers l’autre semblable (André Green)
 .\n\nL’associativité se joue donc à deux dès le début. Le cadre prop
 osé doit tendre à libérer le processus associatif du patient \; mais la
  seule narrativité (modèle névrotique) ne suffit pas dans la clinique c
 ontemporaine.\, comme l’écrit René Roussillon.\n\nL’associativité s
 e comprend aussi à travers d’autres expressions du sujet : jeux\, dessi
 n\, comportements\, symptômes psychiatriques\, symptômes somatiques et c
 ’est son expression qu’il appartient au psychanalyste de faire travail
 ler dès la première rencontre à partir de sa propre associativité et d
 u cadre dans lequel lui-même évolue\, pour ce qui nous réunit aujourd
 ’hui les quatre dispositifs constituant le Pôle Psychanalytique.\n\nCom
 ité d’organisation et Conseil scientifique du Pôle \n\nM. Aisenstein\,
  C. Baruch\, JL Baldacci \, S. Bydlowski\, B. Colin\, L. Danon Boileau\, F
 . Chaine\, D. Donabedian\, V. Kapsambelis\, D. Kaswin\, F. Moggio\, C. Sma
 dja\n\nIntervenants\n\n 	Marilia Aisenstein membre titulaire formatrice SP
 P\, membre titulaire de l’Association IPSO Pierre Marty\n 	Jean-Louis Ba
 ldacci membre titulaire formateur SPP\n 	Clarisse Baruch membre titulaire 
 formatrice SPP\, présidente de la SPP\n 	Sarah Bydlowski\, Institut de ps
 ychanalyse de Paris\, responsable du Centre Alfred Binet\n 	Flore Canavès
 e membre adhérente SPP\n 	Emmanuelle Chervet membre titulaire formatrice 
 SPP\n 	Bertrand Colin membre titulaire SPP\n 	Laurent Danon Boileau membre
  titulaire formateur SPP\n 	Karine Gauthier membre adhérente SPP\n 	Danie
 lle Kaswin membre titulaire formatrice SPP\n 	Françoise Moggio membre tit
 ulaire formatrice SPP\n 	Marina Papageorgiou membre adhérente SPP\, membr
 e titulaire de l’Association IPSO Pierre Marty\n 	Brigitte Reed-Duvaille
  membre titulaire SPP\n\nTélécharger le programme
ATTACH;FMTTYPE=image/jpeg:https://www.spp.asso.fr/wp-content/uploads/2021/
 09/Visuel-2eme-colloque-pole-psychanalytique-2021.png
CATEGORIES:Colloques,Paris
LOCATION:ASM13\, 76 avenue Edison\, Paris\, 75013\, France
GEO:48.8304415;2.358479999999986
X-APPLE-STRUCTURED-LOCATION;VALUE=URI;X-ADDRESS=76 avenue Edison\, Paris\, 
 75013\, France;X-APPLE-RADIUS=100;X-TITLE=ASM13:geo:48.8304415,2.358479999
 999986
END:VEVENT
BEGIN:VTIMEZONE
TZID:Europe/Paris
X-LIC-LOCATION:Europe/Paris
BEGIN:DAYLIGHT
DTSTART:20210328T030000
TZOFFSETFROM:+0100
TZOFFSETTO:+0200
TZNAME:CEST
END:DAYLIGHT
END:VTIMEZONE
END:VCALENDAR