
BEGIN:VCALENDAR
VERSION:2.0
PRODID:-//wp-events-plugin.com//7.2.3.1//EN
TZID:Europe/Paris
X-WR-TIMEZONE:Europe/Paris
BEGIN:VEVENT
UID:439@spp.asso.fr
DTSTART;TZID=Europe/Paris;VALUE=DATE:20240113
DTEND;TZID=Europe/Paris;VALUE=DATE:20240114
DTSTAMP:20240117T093418Z
URL:https://www.spp.asso.fr/events/2eme-journee-de-sensibilisation-a-la-ps
 ychosomatique-allergies/
SUMMARY:2ème Journée de Sensibilisation à la psychosomatique : Allergies
DESCRIPTION:EN PRESENCE\nNombre limité de places\n\nLe Groupe Toulousain d
 e Psychosomatique P. Marty organise sa deuxième Journée de Sensibilisati
 on le samedi 13 janvier 2024 pour les professionnels et étudiants intére
 ssés : médecins\, psychiatres\, psychologues\, infirmiers ou toute perso
 nne intervenant dans le champ de la maladie somatique et psychique.\nDans 
 la suite de la journée scientifique du 25 novembre\, nous approfondirons 
 à partir de la clinique l'approche psychosomatique de l'allergie en réf
 érence aux travaux de l'Ecole de Psychosomatique de Paris fondée par Pie
 rre Marty.\n\nLes personnes déjà inscrites le 23 septembre 2023 conserve
 nt le bénéfice de leur inscription.\n\nMatinée\nModérateur : Jean-Bapt
 iste Dethieux\n9h // Introduction par la Présidente du GTPSO\n9h15 - 10h 
 // Introduction théorique Nathalie Castay\n11h - 12h30 // Clinique d’un
 e investigation adulte\nVidéo ou Présentation clinique\nDiscussion avec 
 la salle\nAprès-midi\nModérateur : Jacques Miedzyrzecki\n14h - 15h30 // 
 Reprise de la matinée - Discussion\n15h30 - 17h // Clinique Enfant/Adoles
 cent Bernard Bensidoun\nIntroduction à la discussion Jacques Miedzyrzecki
 \n17h // Clôture de la journée par la Présidente du GTPSO\nLieu :\nGrou
 pe Toulousain de la SPP\, 100 allée de Barcelone\, 31000 TOULOUSE\n\nTari
 f :\nPlein tarif : 60 euros\nTarif réduit : 30 euros\n\nINSCRIPTIONS : au
 près du secrétariat du GTPSO : 05 61 62 33 62 ou gpsotoulouse@gmail.com 
 ou par courrier avec le bulletin d'inscription à télécharger ici\naccom
 pagné d'un chèque à l'ordre du GTPSO
ATTACH;FMTTYPE=image/jpeg:https://www.spp.asso.fr/wp-content/uploads/2024/
 01/GTPSO_012024_ima.jpg
CATEGORIES:Conférences,Groupe Toulousain
LOCATION:Groupe Toulousain\, 100 allée de Barcelone\, Toulouse\, France\, 
 31000\, Occitanie\, France
X-APPLE-STRUCTURED-LOCATION;VALUE=URI;X-ADDRESS=100 allée de Barcelone\, T
 oulouse\, France\, 31000\, Occitanie\, France;X-APPLE-RADIUS=100;X-TITLE=G
 roupe Toulousain:geo:0,0
END:VEVENT
BEGIN:VTIMEZONE
TZID:Europe/Paris
X-LIC-LOCATION:Europe/Paris
BEGIN:STANDARD
DTSTART:20231029T020000
TZOFFSETFROM:+0200
TZOFFSETTO:+0100
TZNAME:CET
END:STANDARD
END:VTIMEZONE
END:VCALENDAR