
BEGIN:VCALENDAR
VERSION:2.0
PRODID:-//wp-events-plugin.com//7.2.3.1//EN
TZID:Europe/Paris
X-WR-TIMEZONE:Europe/Paris
BEGIN:VEVENT
UID:378@spp.asso.fr
DTSTART;TZID=Europe/Paris:20230415T090000
DTEND;TZID=Europe/Paris:20230415T120000
DTSTAMP:20230417T102420Z
URL:https://www.spp.asso.fr/events/58748/
SUMMARY:Actualité de la psychanalyse à Troyes avec Isabelle Béguier le 1
 5 avril 2023
DESCRIPTION:\n\n\n\nInscription recommandée : www.psychanalyse-troyes.org
 \n\n\n\n\n[pdf-embedder url="https://www.spp.asso.fr/wp-content/uploads/20
 23/03/affiche-conference-Isabelle-Beguier-15-avril-2023.pdf" title="affich
 e conference Isabelle Beguier 15 avril 2023" width="100%"]\nLa prévention
  en psychiatrie : le visage de la transmission\nProjection-Echanges du sa
 medi 15 avril 2023\n\nARGUMENT\nLe film raconte l’expérience originale 
 d’un espace transitionnel constitué entre des professionnels en contact
  avec une population en souffrance psychique et des soignants en psychiatr
 ie. On s’y écoute\, on cherche à se comprendre\, jamais à se juger \
 ; il n’y a pas d’experts de la maladie mentale\, mais un sentiment par
 tagé de commune humanité. Si l’attention aux affects ressentis est san
 s cesse présente\, les échanges sont guidés par un arrière-plan théor
 ique structuré où les conceptions psychanalytiques de la psyché jouent 
 un rôle majeur. Tour à tour\, le film présente les pas successifs de l
 ’expérience dans le cadre d’un service marqué par la psychiatrie soc
 iale\, les réunions « prévention formation réciproque »\, le travai
 l avec les institutions de la petite enfance et du milieu scolaire\, avec 
 les foyers d’accueil de personnes en difficulté\, avec les associations
  et la police. Il décrit également les différents espaces de réflexion
  et de formation construits autour de la prévention. Ce travail de liaiso
 n s’inscrit dans les activités du service de psychiatrie de secteur des
  5 ème et 6 ème arrondissements de Paris du Dr. Jean-Luc Marcel \; elle
  est coordonnée par une psychologue du service et psychanalyste\, Isabell
 e Béguier\, membre de la Société Psychanalytique de Paris\, et soutenue
  par l’Association Prévention Formation Réciproque.
ATTACH;FMTTYPE=image/jpeg:https://www.spp.asso.fr/wp-content/uploads/2023/
 03/conference-Isabelle-Beguier_Troyes_15-avril-2023_ima.jpg
CATEGORIES:Conférences
LOCATION:Hôtel du Petit Louvre - Troyes\, 1 rue Linard-Gonthier\, Troyes\,
  10000\, France
GEO:48.2989918;4.0804017000000385
X-APPLE-STRUCTURED-LOCATION;VALUE=URI;X-ADDRESS=1 rue Linard-Gonthier\, Tro
 yes\, 10000\, France;X-APPLE-RADIUS=100;X-TITLE=Hôtel du Petit Louvre - T
 royes:geo:48.2989918,4.0804017000000385
END:VEVENT
BEGIN:VTIMEZONE
TZID:Europe/Paris
X-LIC-LOCATION:Europe/Paris
BEGIN:DAYLIGHT
DTSTART:20230326T030000
TZOFFSETFROM:+0100
TZOFFSETTO:+0200
TZNAME:CEST
END:DAYLIGHT
END:VTIMEZONE
END:VCALENDAR