
BEGIN:VCALENDAR
VERSION:2.0
PRODID:-//wp-events-plugin.com//7.2.3.1//EN
TZID:Europe/Paris
X-WR-TIMEZONE:Europe/Paris
BEGIN:VEVENT
UID:343@spp.asso.fr
DTSTART;TZID=Europe/Paris:20220925T120000
DTEND;TZID=Europe/Paris:20220925T140000
DTSTAMP:20220923T193416Z
URL:https://www.spp.asso.fr/events/5th-ukrainian-psychoanalytic-society-fr
 iends-meeting/
SUMMARY:5th Ukrainian Psychoanalytic Society Friends Meeting.
DESCRIPTION:\n\n\nSunday 25\, 2 pm CE time\n\n\n\nLien Zoom : https://us06w
 eb.zoom.us/j/83516442499?pwd=OUdPeFY5RE1wYTlsVzFhTXpmTVpYdz09\n\nID: 835 1
 644 2499\nCode: 787940
CATEGORIES:International
LOCATION:https://us06web.zoom.us/j/83516442499?pwd=OUdPeFY5RE1wYTlsVzFhTXpm
 TVpYdz09
END:VEVENT
BEGIN:VTIMEZONE
TZID:Europe/Paris
X-LIC-LOCATION:Europe/Paris
BEGIN:DAYLIGHT
DTSTART:20220327T030000
TZOFFSETFROM:+0100
TZOFFSETTO:+0200
TZNAME:CEST
END:DAYLIGHT
END:VTIMEZONE
END:VCALENDAR