
BEGIN:VCALENDAR
VERSION:2.0
PRODID:-//wp-events-plugin.com//7.2.3.1//EN
TZID:Europe/Paris
X-WR-TIMEZONE:Europe/Paris
BEGIN:VEVENT
UID:443@spp.asso.fr
DTSTART;TZID=Europe/Paris:20240309T100000
DTEND;TZID=Europe/Paris:20240309T123000
DTSTAMP:20240310T184428Z
URL:https://www.spp.asso.fr/events/61826/
SUMMARY:Le clivage du moi normal - Gilbert Diatkine - Bordeaux
DESCRIPTION:\nLe samedi 9 mars 2024\nde 10h à 12h30\n\n« Le clivage du mo
 i normal »\nUne conférence de\nGilbert DIATKINE\,\nMembre Titulaire Form
 ateur de la SPP\nAmphithéâtre Pitres - Université de Bordeaux - Campus 
 Victoire\nRue Paul Broca - 33000 Bordeaux\n&gt\; Inscription en ligne &lt\
 ;\nDate limite d'inscription : le 8 mars 13h\nVous avez également la poss
 ibilité de vous acquitter de votre droit d'entrée le jour de la confére
 nce en vous présentant simplement à l'amphithéâtre Pitres entre 9h30 e
 t 10h\n\nArgument\nLa question de l’existence d’un clivage du moi norm
 al se pose au moins depuis 1908\, quand Freud a montré qu’il existe che
 z l’enfant un clivage normal entre moi-plaisir et moi-réalité. J’ai 
 repris la question sous cet angle dans un article à paraître dans le Jou
 rnal de psychanalyse de l’enfant.\n\nElle a pris une importance nouvelle
  à l’occasion du débat entre Bleuler et Freud sur la schizophrénie en
  1911. Bleuler faisait de la perte des associations\, c’est-à-dire du c
 livage\, le seul trouble primaire de la démence précoce\, qu’il a reba
 ptisé « schizophrénie » pour cette raison. Freud soutient que ce n’e
 st pas le clivage\, mais l’abolition de la réalité\, suivie de la cré
 ation d’une néo-réalité délirante\, qui est essentielle\, et c’est
  pourquoi il aurait voulu imposer le terme de « paraphrénie ». J’ai r
 epris cette discussion dans un livre d’entretiens avec Liuba Rakova-Carr
 on\, à paraître\, qui s’appellera « Pourquoi des psychanalystes? ».\
 n\nIl résulte de cette discussion une description par Freud des clivages 
 normaux du moi inconscient\, qui se déforme et se clive pour servir chacu
 n de ses trois maîtres. J’en ai parlé dans mon article « Les cavalier
 s du dimanche ».\n\nGérard Bayle\, dont nous déplorons la disparition r
 écente avait repris l’ensemble de ces questions dans son rapport au Con
 grès des Psychanalystes de Langue Française de 1996\, "Le clivage et les
  défaillances de la fonction synthétique du Moi ». Il y avait apporté 
 une solution originale en distinguant « clivage structurel » et « cliva
 ge fonctionnel ».\n\n05 56 93 00 42 - contact@groupe-aquitain-spp.fr | 18
  rue verte 33200 Bordeaux
ATTACH;FMTTYPE=image/jpeg:https://www.spp.asso.fr/wp-content/uploads/2024/
 01/Conference_Gilbert-Diatkine-Bordeaux_090324.jpg
CATEGORIES:Conférences,Groupe Aquitain
LOCATION:Amphithéâtre Pitres - Université de Bordeaux - Campus Victoire\
 , Rue Paul Broca\, Bordeaux\, 33000\, France
X-APPLE-STRUCTURED-LOCATION;VALUE=URI;X-ADDRESS=Rue Paul Broca\, Bordeaux\,
  33000\, France;X-APPLE-RADIUS=100;X-TITLE=Amphithéâtre Pitres - Univers
 ité de Bordeaux - Campus Victoire:geo:0,0
END:VEVENT
BEGIN:VTIMEZONE
TZID:Europe/Paris
X-LIC-LOCATION:Europe/Paris
BEGIN:STANDARD
DTSTART:20231029T020000
TZOFFSETFROM:+0200
TZOFFSETTO:+0100
TZNAME:CET
END:STANDARD
END:VTIMEZONE
END:VCALENDAR