
BEGIN:VCALENDAR
VERSION:2.0
PRODID:-//wp-events-plugin.com//7.2.3.1//EN
TZID:Europe/Paris
X-WR-TIMEZONE:Europe/Paris
BEGIN:VEVENT
UID:444@spp.asso.fr
DTSTART;TZID=Europe/Paris;VALUE=DATE:20240502
DTEND;TZID=Europe/Paris;VALUE=DATE:20240505
DTSTAMP:20240130T150419Z
URL:https://www.spp.asso.fr/events/61889/
SUMMARY:Asia Pacific Confertence : Suffering and Desire across Cultures
DESCRIPTION:\nRenseignements et inscription
ATTACH;FMTTYPE=image/jpeg:https://www.spp.asso.fr/wp-content/uploads/2024/
 01/IPA_ASIA_Sidney-scaled.webp
CATEGORIES:Colloques,International
LOCATION:e Pier One Sydney Harbour Hotel\, 11 Hickson Rd\, Dawes Point\, Si
 dney\, NSW2000\, Australie
X-APPLE-STRUCTURED-LOCATION;VALUE=URI;X-ADDRESS=11 Hickson Rd\, Dawes Point
 \, Sidney\, NSW2000\, Australie;X-APPLE-RADIUS=100;X-TITLE=e Pier One Sydn
 ey Harbour Hotel:geo:0,0
END:VEVENT
BEGIN:VTIMEZONE
TZID:Europe/Paris
X-LIC-LOCATION:Europe/Paris
BEGIN:DAYLIGHT
DTSTART:20240331T030000
TZOFFSETFROM:+0100
TZOFFSETTO:+0200
TZNAME:CEST
END:DAYLIGHT
END:VTIMEZONE
END:VCALENDAR