
BEGIN:VCALENDAR
VERSION:2.0
PRODID:-//wp-events-plugin.com//7.2.3.1//EN
TZID:Europe/Paris
X-WR-TIMEZONE:Europe/Paris
BEGIN:VEVENT
UID:411@spp.asso.fr
DTSTART;TZID=Europe/Paris;VALUE=DATE:20240509
DTEND;TZID=Europe/Paris;VALUE=DATE:20240512
DTSTAMP:20240513T190546Z
URL:https://www.spp.asso.fr/events/84e-congres-des-psychanalystes-de-langu
 e-francaise-2024/
SUMMARY:84e Congrès des Psychanalystes de Langue Française
DESCRIPTION:Le 84e CPLF se tiendra à Paris\ndu jeudi 9 au samedi 11 mai\nS
 'identifier\nHélène Suarez-Labat (SPP)\nLes voies identificatoires : ent
 re douleur et satisfaction\nClaude Barazer (APF)\nÊtre l'autre\nBulletin 
 d'inscription | Programme scientifique | Soirée festive\nINSCRIPTION EN L
 IGNE SUR HELLOASSO\n&nbsp\;\n[pdf-embedder url="https://www.spp.asso.fr/wp
 -content/uploads/2024/03/CPLF_Programme_2024.pdf" width="100%"]
ATTACH;FMTTYPE=image/jpeg:https://www.spp.asso.fr/wp-content/uploads/2023/
 09/CPLF_2024_imaV.jpg
CATEGORIES:Colloques,Congrès
LOCATION:Maison de la Mutualité\, 24\, rue Saint-Victor\, Paris\, 75005\, 
 France
X-APPLE-STRUCTURED-LOCATION;VALUE=URI;X-ADDRESS=24\, rue Saint-Victor\, Par
 is\, 75005\, France;X-APPLE-RADIUS=100;X-TITLE=Maison de la Mutualité:geo
 :0,0
END:VEVENT
BEGIN:VTIMEZONE
TZID:Europe/Paris
X-LIC-LOCATION:Europe/Paris
BEGIN:DAYLIGHT
DTSTART:20240331T030000
TZOFFSETFROM:+0100
TZOFFSETTO:+0200
TZNAME:CEST
END:DAYLIGHT
END:VTIMEZONE
END:VCALENDAR