
BEGIN:VCALENDAR
VERSION:2.0
PRODID:-//wp-events-plugin.com//7.2.3.1//EN
TZID:Europe/Paris
X-WR-TIMEZONE:Europe/Paris
BEGIN:VEVENT
UID:143@spp.asso.fr
DTSTART;TZID=Europe/Paris:20191206T000000
DTEND;TZID=Europe/Paris:20191207T000000
DTSTAMP:20190813T102610Z
URL:https://www.spp.asso.fr/events/autour-de-loeuvre-de-leopold-bleger-ou-
 est-le-materiel-de-la-seance/
SUMMARY:Autour de l'œuvre de LéopoldO BLEGER : "Où est le matériel de l
 a séance ?"
DESCRIPTION:\n\n\n\n Vendredi soir 6 décembre 2019 : conférence.\n\n
  Samedi 7 décembre 2019 : journée de travail.\n\n\n\n
CATEGORIES:Conférences,Groupe Lyonnais - Grenoble AGPsy,Province
LOCATION:Grenoble\, Lieu à préciser\, Grenoble\, France
X-APPLE-STRUCTURED-LOCATION;VALUE=URI;X-ADDRESS=Lieu à préciser\, Grenobl
 e\, France;X-APPLE-RADIUS=100;X-TITLE=Grenoble:geo:0,0
END:VEVENT
BEGIN:VTIMEZONE
TZID:Europe/Paris
X-LIC-LOCATION:Europe/Paris
BEGIN:STANDARD
DTSTART:20191027T020000
TZOFFSETFROM:+0200
TZOFFSETTO:+0100
TZNAME:CET
END:STANDARD
END:VTIMEZONE
END:VCALENDAR