
BEGIN:VCALENDAR
VERSION:2.0
PRODID:-//wp-events-plugin.com//7.2.3.1//EN
TZID:Europe/Paris
X-WR-TIMEZONE:Europe/Paris
BEGIN:VEVENT
UID:360@spp.asso.fr
DTSTART;TZID=Europe/Paris:20230125T203000
DTEND;TZID=Europe/Paris:20230125T230000
DTSTAMP:20230127T090723Z
URL:https://www.spp.asso.fr/events/autour-du-cinema-contemporain-madeleine
 -collins-dantoine-barraud/
SUMMARY:Autour du cinéma contemporain : « Madeleine Collins » d’Antoin
 e Barraud
DESCRIPTION:\n\n\n\n\n1ère Séance mercredi 25 janvier 2023 à 20h30 « 
 Madeleine Collins » d’Antoine Barraud\, en présence du réalisateur.
 \n\n&nbsp\;\n\n\n\n\n\n[pdf-embedder url="https://www.spp.asso.fr/wp-conte
 nt/uploads/2022/12/CinePsy_25.01.2023.pdf" width="100%"]
ATTACH;FMTTYPE=image/jpeg:https://www.spp.asso.fr/wp-content/uploads/2022/
 12/CinePsy_25.01.2023-pdf.jpg
CATEGORIES:cinéma et psychanalyse
LOCATION:Studio des Ursulines\, 10 RUE DES URSULINES \, 75005 PARIS\, Franc
 e
GEO:48.8427274;2.3420674999999846
X-APPLE-STRUCTURED-LOCATION;VALUE=URI;X-ADDRESS=10 RUE DES URSULINES \, 750
 05 PARIS\, France;X-APPLE-RADIUS=100;X-TITLE=Studio des Ursulines:geo:48.8
 427274,2.3420674999999846
END:VEVENT
BEGIN:VTIMEZONE
TZID:Europe/Paris
X-LIC-LOCATION:Europe/Paris
BEGIN:STANDARD
DTSTART:20221030T020000
TZOFFSETFROM:+0200
TZOFFSETTO:+0100
TZNAME:CET
END:STANDARD
END:VTIMEZONE
END:VCALENDAR