
BEGIN:VCALENDAR
VERSION:2.0
PRODID:-//wp-events-plugin.com//7.2.3.1//EN
TZID:Europe/Paris
X-WR-TIMEZONE:Europe/Paris
BEGIN:VEVENT
UID:668@spp.asso.fr
DTSTART;TZID=Europe/Paris:20260318T203000
DTEND;TZID=Europe/Paris:20260318T230000
DTSTAMP:20260319T005948Z
URL:https://www.spp.asso.fr/?post_type=event&p=72001
SUMMARY:Autour du cinéma contemporain « NINO »
DESCRIPTION:\nINSCRIPTION\n\n\n\nEt une nouveauté! : vous pouvez d'ores et
  déjà réserver vos places sur le site du Studio des Ursulines via le li
 en ci-dessous\nhttps://bit.ly/4tQrXwe\n
ATTACH;FMTTYPE=image/jpeg:https://www.spp.asso.fr/wp-content/uploads/2026/
 02/Autour-du-cinema-contemporain_NINO.png
CATEGORIES:cinéma et psychanalyse
LOCATION:\, \, France
X-APPLE-STRUCTURED-LOCATION;VALUE=URI;X-ADDRESS=\, France;X-APPLE-RADIUS=10
 0;X-TITLE=:geo:0,0
END:VEVENT
BEGIN:VTIMEZONE
TZID:Europe/Paris
X-LIC-LOCATION:Europe/Paris
BEGIN:STANDARD
DTSTART:20251026T020000
TZOFFSETFROM:+0200
TZOFFSETTO:+0100
TZNAME:CET
END:STANDARD
END:VTIMEZONE
END:VCALENDAR