
BEGIN:VCALENDAR
VERSION:2.0
PRODID:-//wp-events-plugin.com//7.2.3.1//EN
TZID:Europe/Paris
X-WR-TIMEZONE:Europe/Paris
BEGIN:VEVENT
UID:263@spp.asso.fr
DTSTART;TZID=Europe/Paris:20211013T203000
DTEND;TZID=Europe/Paris:20211013T230000
DTSTAMP:20220109T194732Z
URL:https://www.spp.asso.fr/events/autour-du-cinema-contemporain/
SUMMARY:Rencontres Cinéma et Psychanalyse
DESCRIPTION:Les Rencontres Cinéma et psychanalyse proposent trois fois dan
 s l'année une projection suivie d'un débat en présence du réalisateur.
  Pour notre prochaine rencontre\, nous aurons le plaisir de recevoir Erwan
  Le Duc avec son premier long métrage « Perdrix » .\nAvec « Perdrix »
 \, Erwan Le Duc explore le sentiment amoureux sous toutes ses formes et en
 traîne le spectateur dans la forêt vosgienne à la suite d’une jeune f
 emme qui sème désirs et désordres dans la vie d’un paisible capitaine
  de gendarmerie…\nLa projection aura lieu\nLe Mercredi 13 Octobre 2021 
 à 20:30\nAu Studio des Ursulines\,\n10\, rue des Ursulines\, 75005 Pari
 s\nAvec Perdrix de Erwan Le Duc\, en sa présence\nPour les rencontres c
 inéma et psychanalyse : Amélie de Cazanove\, Léopoldine Lalu\, Pierre S
 ullivan et Bernard Touati\nfacebook : www.facebook.com/Rencontres-Cinéma
 -et-Psychanalyse\nmail : cinema.psychanalyse@hotmail.fr
ATTACH;FMTTYPE=image/jpeg:https://www.spp.asso.fr/wp-content/uploads/2021/
 09/autour-du-cinema-contemporain_13102021.jpeg
CATEGORIES:cinéma et psychanalyse,Conférences
LOCATION:Studio des Ursulines\, 10 RUE DES URSULINES \, 75005 PARIS\, Franc
 e
GEO:48.8427274;2.3420674999999846
X-APPLE-STRUCTURED-LOCATION;VALUE=URI;X-ADDRESS=10 RUE DES URSULINES \, 750
 05 PARIS\, France;X-APPLE-RADIUS=100;X-TITLE=Studio des Ursulines:geo:48.8
 427274,2.3420674999999846
END:VEVENT
BEGIN:VTIMEZONE
TZID:Europe/Paris
X-LIC-LOCATION:Europe/Paris
BEGIN:DAYLIGHT
DTSTART:20210328T030000
TZOFFSETFROM:+0100
TZOFFSETTO:+0200
TZNAME:CEST
END:DAYLIGHT
END:VTIMEZONE
END:VCALENDAR