
BEGIN:VCALENDAR
VERSION:2.0
PRODID:-//wp-events-plugin.com//7.2.3.1//EN
TZID:Europe/Paris
X-WR-TIMEZONE:Europe/Paris
BEGIN:VEVENT
UID:362@spp.asso.fr
DTSTART;TZID=Europe/Paris:20230110T110000
DTEND;TZID=Europe/Paris:20230110T120000
DTSTAMP:20230116T112856Z
URL:https://www.spp.asso.fr/events/breakdowns-dart-spiegelman-presente-par
 -pierre-levy-sousan/
SUMMARY:Breakdowns d’Art Spiegelman présenté par Pierre Lévy-Sousan
DESCRIPTION:Notre confrère Pierre Lévy-Soussan présentera Breakdowns\, a
 lbum de bande dessinée d’Art Spiegelman — qu'il a lui-même traduit 
 — au Collège de France dans le cadre de la chaire de Benoît Peeters co
 nsacrée à la bande dessinée. Art Spiegelman est l'auteur de Maus.\n\nLa
  conférence sera visible ensuite sur le site du Collège de France.\n\nRe
 nseignements et présentation : www.college-de-france.fr/agenda/seminaire/
 quelques-albums-incontournables/breakdowns-art-spiegelman
ATTACH;FMTTYPE=image/jpeg:https://www.spp.asso.fr/wp-content/uploads/2023/
 01/breakdonws_art-spiegelman_ima.jpg
CATEGORIES:Colloques
LOCATION:Collège de France\, 11\, place Maurice Berthelot\, Paris\, 75005\
 , France
X-APPLE-STRUCTURED-LOCATION;VALUE=URI;X-ADDRESS=11\, place Maurice Berthelo
 t\, Paris\, 75005\, France;X-APPLE-RADIUS=100;X-TITLE=Collège de France:g
 eo:0,0
END:VEVENT
BEGIN:VTIMEZONE
TZID:Europe/Paris
X-LIC-LOCATION:Europe/Paris
BEGIN:STANDARD
DTSTART:20221030T020000
TZOFFSETFROM:+0200
TZOFFSETTO:+0100
TZNAME:CET
END:STANDARD
END:VTIMEZONE
END:VCALENDAR