
BEGIN:VCALENDAR
VERSION:2.0
PRODID:-//wp-events-plugin.com//7.2.3.1//EN
TZID:Europe/Paris
X-WR-TIMEZONE:Europe/Paris
BEGIN:VEVENT
UID:347@spp.asso.fr
DTSTART;TZID=Europe/Paris:20221209T000000
DTEND;TZID=Europe/Paris:20221210T000000
DTSTAMP:20221212T091501Z
URL:https://www.spp.asso.fr/events/cette-sacree-verite-colloque-du-gypsy/
SUMMARY:« CETTE SACRÉE VÉRITÉ ! » - Colloque du GYPSY
DESCRIPTION:Informations : www.gypsy-colloque.com/colloques/colloque-2022/\
 n\nInscription : www.gypsy-colloque.com/inscription/\n\n[pdf-embedder url=
 "https://www.spp.asso.fr/wp-content/uploads/2022/09/colloque-gypsy-2022-pr
 ogramme.pdf" width="100%"]
ATTACH;FMTTYPE=image/jpeg:https://www.spp.asso.fr/wp-content/uploads/2022/
 09/colloque-gypsy-2022_ima_2.jpg
CATEGORIES:Colloques
LOCATION:Université de Paris\, 45\,  rue des Saints-Pères\, Paris\, 75006
 \, France
X-APPLE-STRUCTURED-LOCATION;VALUE=URI;X-ADDRESS=45\,  rue des Saints-Pères
 \, Paris\, 75006\, France;X-APPLE-RADIUS=100;X-TITLE=Université de Paris:
 geo:0,0
END:VEVENT
BEGIN:VTIMEZONE
TZID:Europe/Paris
X-LIC-LOCATION:Europe/Paris
BEGIN:STANDARD
DTSTART:20221030T020000
TZOFFSETFROM:+0200
TZOFFSETTO:+0100
TZNAME:CET
END:STANDARD
END:VTIMEZONE
END:VCALENDAR