
BEGIN:VCALENDAR
VERSION:2.0
PRODID:-//wp-events-plugin.com//7.2.3.1//EN
TZID:Europe/Paris
X-WR-TIMEZONE:Europe/Paris
BEGIN:VEVENT
UID:420@spp.asso.fr
DTSTART;TZID=Europe/Paris:20231115T203000
DTEND;TZID=Europe/Paris:20231115T233000
DTSTAMP:20231117T141503Z
URL:https://www.spp.asso.fr/events/cine-psy-avec-tout-le-monde-mappelle-mi
 ke-de-guillaume-bonnier-en-sa-presence/
SUMMARY:Ciné Psy : Avec Tout le monde m’appelle Mike\,  de Guillaume Bon
 nier\, en sa présence
DESCRIPTION:\nAuStudio des Ursulines\,\n10 rue des Ursulines\, 75005 Paris\
 n\nen présence du réalisateur Guillaume Bonnier\n\n« Tout le monde m
 ’appelle Mike » : Guillaume Bonnier filme un huis clos tragique dans 
 le golfe d’Aden.\nUn couple parti pour un tour du monde à la voile se r
 etrouve confronté à un drame en pleine mer. Un premier long-métrage ré
 ussi. \nDjibouti\, la ville brûlante et blanche de la Corne de l’Afriq
 ue où débute le premier long-métrage de Guillaume Bonnier\, s’annonce
  d’emblée comme le point\, à la fois géographique et narratif\, qui s
 épare l’avant et l’après\, le passé et ce qui va advenir. L’avant
  nous est livré par la voix off. Celle d’Isabelle (Daphné Patakia) qui
  raconte comment\, il y a un an\, elle a accepté la proposition de son co
 mpagnon\, Jean (Pierre Lottin)\, de partir\, avec son fils Damien\, pour u
 n tour du monde en voilier (…)\nVéronique Cauhapé\,Le Monde\nTout le m
 onde m’appelle Mike commence à Djibouti\, où Jean (Pierre Lottin)\, Is
 abelle (Daphné Patakia) et son enfant Damien attendent\, sur leur voilier
 \, de pouvoir continuer le voyage au long cours qui est leur vie\, et tent
 er de passer sans encombre vers le sud par le golfe d’Aden\, au large de
 la Somalie\, réputé pour ses dangers. Au cours d’une première mésave
 nture urbaine\, ils rencontrent Mike (Abdirisak Mohamed)\,chauffeur de tax
 i\, qui aide Jean àtrouver une pièce de moteur qui lui manque\, avant de
  lui demander de l’emmener dans leur périple\, dans l’espoir de quitt
 er la corne de l’Afrique. La suite\, une étude de caractères qui déri
 ve en thriller maritime\, sera le huis clos à quatre du bateau\, où les 
 liens (de famille\, d’amour) et les rapports (de domination\, de force) 
 se déploieront et se resserreront\, pour sceller le drame préparé. (…
 ) Les corps qui tanguent ou barrent sont convaincants\, incarnés. Guillau
 me Bonnier – c’est son premier long métrage\, aventureux – parvient
 \, par temps calme ou par intempérie\, à les regarder sans ciller\, comm
 e droit dans les yeux\, dans les cadres. (…)\nLuc Chessel\, Libération\
 nAu cinéma depuis début juillet\, « Tout le monde m’appelle Mike »
  raconte la confrontation d’une famille naviguant au long cours avec la 
 réalité sociale et géopolitique du monde qu’elle cherchaità fuir. Ce
  thriller épuré a été – c’est une première – entièrement tourn
 é à bord d’un voilier de plaisance.\nL’histoire est celle d’une fa
 mille composée de Jean (Pierre Lottin)\, Isabelle (Daphné Patakia) et so
 n fils Damien(Thibault Dierickx). Après avoir embarqué à Djibouti un ch
 auffeur de taxi nommé Mike (Abdirisak Mohamed)\, l’équipage met le cap
  vers les Seychelles. Ils seront bientôt attaqués par des pirates. « J
 e voulais montrer un couple avec un très grand désir de liberté́\, de 
 pacifisme\, se prendre le monde en pleine gueule. Ils veulent échapper au
  monde\, mais on ne peut plus fairecomme s’il n’existait pas\, on ne p
 eut plus s’exiler loin des spasmes qui le secouent. »\n(…) Là où u
 n jeune réalisateur se risquerait à filmer des scènes d’actions avec 
 cascadeurs et effets spéciaux\, lui choisit l’allusif\, l’évocation\
 , le hors champ. Pour une question de moyens\, mais aussi destyle. Bonnier
  maintient l’équilibre entre film d’auteur et polar formel. Son long-
 métrage parvient à faire ressentir la navigation au large\, lente\, rép
 étitive\, comme un glissement dans une autre temporalité. \n(…)  «
  Avec son apprêt très sec\, rude\, très “arte povera” mon film est
  inclassable\, à la fois film d’auteur et filmclassique\, analyse Guil
 laume Bonnier. Il dérange aussi parce qu’il a un rapport au colonialis
 me assez frontal\, subtil et en même temps très clair. De plus\, il n’
 y a dans cette histoire\, ni gentils\, ni méchants. Chacun a ses raisons\
 , comme le montre Jean Renoir dans la Règle du Jeu. » \nLaurent Charpe
 ntier\, Voiles et Voiliers\n\n[pdf-embedder url="https://www.spp.asso.fr/w
 p-content/uploads/2023/10/Rencontre-CinePsy_15.11.2023.pdf" title="Rencont
 re CinéPsy 15.11.2023" width="100%"]
ATTACH;FMTTYPE=image/jpeg:https://www.spp.asso.fr/wp-content/uploads/2023/
 10/Rencontre-CinePsy_15.11.2023_ima.jpg
CATEGORIES:cinéma et psychanalyse
LOCATION:Studio des Ursulines\, 10 RUE DES URSULINES \, 75005 PARIS\, Franc
 e
GEO:48.8427274;2.3420674999999846
X-APPLE-STRUCTURED-LOCATION;VALUE=URI;X-ADDRESS=10 RUE DES URSULINES \, 750
 05 PARIS\, France;X-APPLE-RADIUS=100;X-TITLE=Studio des Ursulines:geo:48.8
 427274,2.3420674999999846
END:VEVENT
BEGIN:VTIMEZONE
TZID:Europe/Paris
X-LIC-LOCATION:Europe/Paris
BEGIN:STANDARD
DTSTART:20231029T020000
TZOFFSETFROM:+0200
TZOFFSETTO:+0100
TZNAME:CET
END:STANDARD
END:VTIMEZONE
END:VCALENDAR