
BEGIN:VCALENDAR
VERSION:2.0
PRODID:-//wp-events-plugin.com//7.2.3.1//EN
TZID:Europe/Paris
X-WR-TIMEZONE:Europe/Paris
BEGIN:VEVENT
UID:371@spp.asso.fr
DTSTART;TZID=Europe/Paris:20230329T203000
DTEND;TZID=Europe/Paris:20230329T233000
DTSTAMP:20230330T103412Z
URL:https://www.spp.asso.fr/events/cine-psy-en-corps-de-cedric-klapisch/
SUMMARY:Ciné Psy : « En Corps » de Cédric Klapisch
DESCRIPTION:\nNous sommes très heureux de vous retrouver au printemps\, po
 ur un film qui célèbre l’énergie du corps quand il vit et revit ! \
 nCédric Klapisch nous présentera son film En Corps et nous dévoilera
  le monde de la danse à travers des images d’une grande beauté. \nLe
  Mercredi 29 Mars 2023\, à 20h30 \nAu Studio des Ursulines\,\n10 rue
  des Ursulines\, 75005 Paris.\n\nAvec En Corps\,\nde Cédric Klapisch\, e
 n sa présence  \nEn vous espérant nombreux\, toutes les informations u
 tiles se trouvent sur la pièce jointe.  \nAmélie de Cazanove\, Léopol
 dine Lalu\, Pierre Sullivan et Bernard Touati   \nRetrouvez-nous sur Fa
 cebook!  \nhttps://www.facebook.com/people/Rencontres-Cinéma-et-Psychan
 alyse/100063546034012/\n&nbsp\;\n\n\n\n\n\n\n\nAprès quatre ans d’absen
 ce sur les écrans\, Cédric Klapisch revient avec En corps (…)\, interp
 rété par la première danseuse à l’Opéra de Paris\, Marion Barbeau\,
  qui mène parallèlement une carrière dans le contemporain. Le réalisat
 eur signe un de ses meilleurs films\, d’une beauté visuelle de chaque i
 nstant. Il raconte la conversion d’une danseuse classique à la danse mo
 derne\, après un accident qui aurait pu lui interdire d’exercer à jama
 is son art.\n\n(…) Un beau scénario\, des images superbes\, Cédric Kla
 pisch est passionné par son sujet. Il est merveilleusement servi par Hofe
 sh Shechter\, chorégraphe israélien\, et Thomas Bangalter (Daft Punk)\, 
 compositeur (…). Le cinéaste semble appliquer une discipline toute chor
 égraphique dans sa réalisation\, lui qui nous a plutôt habitué à une 
 nonchalance formelle\, pleine d’atmosphère\, mais réaliste\, sinon nat
 uraliste. En corps est peut-être\, de ce point de vue\, son film le plus 
 ambitieux et le plus abouti : dansez maintenant !\n\nJacky Bornet\, france
 info Culture\n\n&nbsp\;\n\nL’ouverture d’En corps ne manque ni d’aud
 ace\, ni de panache. Dix minutes d’une représentation d’un ballet\, L
 a Bayadère\, sans qu’on devine de quoi va parler le film. Un parti pris
  par lequel Cédric Klapisch place le spectateur en position active\, l’
 entraîne dans ce qui l’a conduit à imaginer et tourner ce film. Sa pas
 sion pour la danse qui s’était déjà exprimée à travers divers docum
 entaires et captations mais jamais par la fiction. Le récit tient ici vol
 ontairement en une phrase : après une grave blessure\, une danseuse class
 ique de 26 ans\, tente de se réparer alors qu’on lui annonce sa carriè
 re terminée. En corps n’a rien d’un suspense sur sa capacité à exer
 cer ou non de nouveau son art. Ce qui intéresse Klapisch c’est le proce
 ssus de reconstruction\, les passerelles entre deux mondes – la danse co
 ntemporaine et moderne – que tant jurent irréconciliables. Il ne traite
  jamais cet art par le prisme de la compétition exacerbée (à l’image 
 d’un Black Swan) mais par la manière dont il envisage la pratique de ce
 t art : une passion plutôt qu’un sacerdoce. Son œil connaisseur et la 
 caméra à l’affût d’Alexis Kavyrchine (Adieu les cons) donnent naiss
 ance à une œuvre enveloppante mais jamais mièvre et parsemée subtileme
 nt de moments de comédie comme Klapisch sait si bien les trousser (…).\
 n\nThierry Chèze\, Première\n\n&nbsp\;\n\nIl y a quelque chose de très 
 touchant à voir Cédric Klapisch poursuivre encore aujourd’hui sa radio
 graphie générationnelle. Deux moi (2019) filmait le quotidien de jeunes 
 adultes prisonniers de leur solitude hyperconnectée. En corps s’apparen
 te à une réponse au film précédent\, une débauche de contacts et de c
 hair\, car le cinéaste adjoint à son portrait une passion présente chez
  lui depuis quarante ans : la danse.\n\n(…) A ce canevas on ne peut plus
  conventionnel\, celui du récit d’apprentissage et de réparation\, Kla
 pisch adjoint une très belle idée : le milieu de la danse n’est pas r
 éduit à un décor\, un milieu rapidement filmé\, mais devient le vérit
 able sujet du film qui\, on le sent\, pose des questions de mise en scène
 \, brillamment résolues : comment filmer des corps ? Filme-t-on de la mê
 me façon les danses classique et contemporaine ? (…)\n\nMurielle Joudet
 \, Le Monde\n\n\n\n\n\n\n
ATTACH;FMTTYPE=image/jpeg:https://www.spp.asso.fr/wp-content/uploads/2023/
 03/CinePsy_29.03.2023.jpg
CATEGORIES:cinéma et psychanalyse
LOCATION:\, \, France
X-APPLE-STRUCTURED-LOCATION;VALUE=URI;X-ADDRESS=\, France;X-APPLE-RADIUS=10
 0;X-TITLE=:geo:0,0
END:VEVENT
BEGIN:VTIMEZONE
TZID:Europe/Paris
X-LIC-LOCATION:Europe/Paris
BEGIN:DAYLIGHT
DTSTART:20230326T030000
TZOFFSETFROM:+0100
TZOFFSETTO:+0200
TZNAME:CEST
END:DAYLIGHT
END:VTIMEZONE
END:VCALENDAR