
BEGIN:VCALENDAR
VERSION:2.0
PRODID:-//wp-events-plugin.com//7.2.3.1//EN
TZID:Europe/Paris
X-WR-TIMEZONE:Europe/Paris
BEGIN:VEVENT
UID:446@spp.asso.fr
DTSTART;TZID=Europe/Paris:20240313T203000
DTEND;TZID=Europe/Paris:20240313T230000
DTSTAMP:20240317T105756Z
URL:https://www.spp.asso.fr/events/cine-psy-marss-2024/
SUMMARY:Ciné Psy Mars 2024 « La fille de mon père »
DESCRIPTION:[pdf-embedder url="https://www.spp.asso.fr/wp-content/uploads/2
 024/02/CinEPsy_Mars-2024.pdf" width="100%"]
ATTACH;FMTTYPE=image/jpeg:https://www.spp.asso.fr/wp-content/uploads/2024/
 02/CinEPsy_Mars-2024_ima.png
CATEGORIES:cinéma et psychanalyse
LOCATION:Studio des Ursulines\, 10 RUE DES URSULINES \, 75005 PARIS\, Franc
 e
GEO:48.8427274;2.3420674999999846
X-APPLE-STRUCTURED-LOCATION;VALUE=URI;X-ADDRESS=10 RUE DES URSULINES \, 750
 05 PARIS\, France;X-APPLE-RADIUS=100;X-TITLE=Studio des Ursulines:geo:48.8
 427274,2.3420674999999846
END:VEVENT
BEGIN:VTIMEZONE
TZID:Europe/Paris
X-LIC-LOCATION:Europe/Paris
BEGIN:STANDARD
DTSTART:20231029T020000
TZOFFSETFROM:+0200
TZOFFSETTO:+0100
TZNAME:CET
END:STANDARD
END:VTIMEZONE
END:VCALENDAR