
BEGIN:VCALENDAR
VERSION:2.0
PRODID:-//wp-events-plugin.com//7.2.3.1//EN
TZID:Europe/Paris
X-WR-TIMEZONE:Europe/Paris
BEGIN:VEVENT
UID:201@spp.asso.fr
DTSTART;TZID=Europe/Paris:20201007T203000
DTEND;TZID=Europe/Paris:20201007T233000
DTSTAMP:20201009T161735Z
URL:https://www.spp.asso.fr/events/cinema-et-psychanalyse-la-sainte-famill
 e-de-louis-do-de-lencquesaing-mercredi-7-octobre-2020/
SUMMARY:Cinéma et psychanalyse - La sainte famille de Louis-Do de Lencques
 aing - Mercredi 7 Octobre 2020
DESCRIPTION:Les Rencontres Cinéma et Psychanalyse proposent trois fois dan
 s l'année une projection suivie d'un débat en présence du réalisateur.
  Pour notre prochaine rencontre\, nous avons demandé à Louis-Do de Lencq
 uesaing de venir nous présenter La sainte famille son second long métrag
 e dans lequel il incarne le personnage principal.\n\nLa projection aura li
 eu :\n\nLe Mercredi 7 Octobre 2020 à 20:30\nAu Studio des Ursulines\,
 \n10\, rue des Ursulines\, 75005 Paris\nLa sainte Famille de Louis-Do de
  Lencquesaing\, en sa présence\n\nAvec La Sainte famille\, Louis-Do de Le
 ncquesaing dessine un portrait de famille entre tendresse et tragi-comédi
 e\, autour du personnage de Jean\, qui promène son charme nonchalant et n
 ous convie à l’inventaire de son existence.\n\nOuvert à tous\, sans r
 éservations.\n\nRenseignements : cinema.psychanalyse@hotmail.fr\n\nhttps
 ://www.facebook.com/Rencontres-Cinéma-et-Psychanalyse-315955775117299/ \
 n\nPour les rencontres cinéma et psychanalyse : Amélie de Cazanove\, Lé
 opoldine Lalu\, Pierre Sullivan et Bernard Touati\n\n&nbsp\;\n\n&nbsp\;
ATTACH;FMTTYPE=image/jpeg:https://www.spp.asso.fr/wp-content/uploads/2020/
 09/Affiche-CinePsy-Oct.2020-copie.jpg
CATEGORIES:Colloques,Paris
LOCATION:Studio des Ursulines\, 10 RUE DES URSULINES \, 75005 PARIS\, Franc
 e
GEO:48.8427274;2.3420674999999846
X-APPLE-STRUCTURED-LOCATION;VALUE=URI;X-ADDRESS=10 RUE DES URSULINES \, 750
 05 PARIS\, France;X-APPLE-RADIUS=100;X-TITLE=Studio des Ursulines:geo:48.8
 427274,2.3420674999999846
END:VEVENT
BEGIN:VTIMEZONE
TZID:Europe/Paris
X-LIC-LOCATION:Europe/Paris
BEGIN:DAYLIGHT
DTSTART:20200329T030000
TZOFFSETFROM:+0100
TZOFFSETTO:+0200
TZNAME:CEST
END:DAYLIGHT
END:VTIMEZONE
END:VCALENDAR