
BEGIN:VCALENDAR
VERSION:2.0
PRODID:-//wp-events-plugin.com//7.2.3.1//EN
TZID:Europe/Paris
X-WR-TIMEZONE:Europe/Paris
BEGIN:VEVENT
UID:156@spp.asso.fr
DTSTART;TZID=Europe/Paris:20191120T203000
DTEND;TZID=Europe/Paris:20191120T230000
DTSTAMP:20191122T055351Z
URL:https://www.spp.asso.fr/events/cinema-et-psychanalyse-soleil-battant-d
 e-c-l-laperrousaz/
SUMMARY:Cinéma et psychanalyse - Soleil battant de C. & L. Laperrousaz
DESCRIPTION:actualité de la clinique et des arts\nPROPOSÉ PAR AMÉLIE DE 
 CAZANOVE\, LÉOPOLDINE LALU\, PIERRE SULLIVAN\nmercredi 20 novembre 2019 
 à 20h30\n\n« Soleil battant » de Clara et Laura Laperrousaz\nen présen
 ce des réalisatrices\n&nbsp\;\n\nfacebook / rencontres cinéma et psychan
 alyse\ncinema.psychanalyse@hotmail.fr\n\nAU STUDIO DES URSULINES\, 10 RUE
  DES URSULINES 75005 PARIS\nentrée : 10 euros\n\nLes Rencontres Cinéma e
 t Psychanalyse organisent trois fois dans l'année des projections de film
 s suivies d'un débat entre le cinéaste et le public. Animées par Améli
 e de Cazanove\, Leopoldine Lalu\, Pierre Sullivan et Bernard Touati\, elle
 s proposent un dialogue entre les deux disciplines marquées par une commu
 nauté de pensée et un désir d'explorer les questions autour de la repr
 ésentation.\n\nProchaine Rencontre Cinéma et Psychanalyse le mercredi 20
  Novembre 2019 à 20h30 au Studio des Ursulines\, 10 rue des Ursulines-
  75005 Paris. Nous aurons le plaisir de présenter « Soleil battant » 
 un film de Clara et Laura Laperrousaz en leur présence.\n\nSorti en 2017\
 , « Soleil battant »\, film solaire et mélancolique\, évoque avec d
 élicatesse et à hauteur d'enfant la question du deuil et des secrets\, e
 t au-delà se révèle un champ et une réflexion autour du couple. Nous a
 urons l'occasion d'entendre les deux sœurs cinéastes sur ces sujets mais
  aussi peut être le rapport à la fratrie dans le cinéma\, leurs inspira
 tions\, leurs liens à la psychanalyse ...\n\nOuvert à tous\, sans réser
 vations.\n\nRenseignements : cinema.psychanalyse@hotmail.fr\nProgramme su
 r Facebook https://m.facebook.com/Rencontres-Cinéma-et-Psychanalyse-3159
 55775117299\n\n&nbsp\;\n\n&nbsp\;
ATTACH;FMTTYPE=image/jpeg:https://www.spp.asso.fr/wp-content/uploads/2019/
 10/CinePsy_20_nov_2019_visuel.jpg
CATEGORIES:Conférences
LOCATION:Studio des Ursulines\, 10 RUE DES URSULINES \, 75005 PARIS\, Franc
 e
GEO:48.8427274;2.3420674999999846
X-APPLE-STRUCTURED-LOCATION;VALUE=URI;X-ADDRESS=10 RUE DES URSULINES \, 750
 05 PARIS\, France;X-APPLE-RADIUS=100;X-TITLE=Studio des Ursulines:geo:48.8
 427274,2.3420674999999846
END:VEVENT
BEGIN:VTIMEZONE
TZID:Europe/Paris
X-LIC-LOCATION:Europe/Paris
BEGIN:STANDARD
DTSTART:20191027T020000
TZOFFSETFROM:+0200
TZOFFSETTO:+0100
TZNAME:CET
END:STANDARD
END:VTIMEZONE
END:VCALENDAR