
BEGIN:VCALENDAR
VERSION:2.0
PRODID:-//wp-events-plugin.com//7.2.3.1//EN
TZID:Europe/Paris
X-WR-TIMEZONE:Europe/Paris
BEGIN:VEVENT
UID:471@spp.asso.fr
DTSTART;TZID=Europe/Paris:20240619T203000
DTEND;TZID=Europe/Paris:20240619T233000
DTSTAMP:20240621T175446Z
URL:https://www.spp.asso.fr/events/cinepsy-le-regne-animal-de-thomas-caill
 ey/
SUMMARY:CinéPsy Le règne animal de Thomas Cailley
DESCRIPTION:\n\nNous sommes heureux de vous proposer une traversée de la f
 orêt des Landes\, à la suite d’un père et de son fils\, qui vont renc
 ontrer de bien étranges créatures\, femme-fauve et homme-aigle …\n\nTh
 omas Cailley nous présentera son film Le Règne animal\, une étourdissan
 te fable fantastique\, où l’intime se mêle au spectaculaire pour parle
 r de transmission et d'amour.\n\nLe Mercredi 19 juin 2024\, à 20h30\nAu 
 Studio des Ursulines\,\n10 rue des Ursulines\, 75005 Paris.\n\nLe Règne a
 nimal\,\nde Thomas Cailley\, en sa présence\n\nEn vous espérant nombreux
 \, toutes les informations utiles se trouvent sur la pièce jointe.\nAmél
 ie de Cazanove\, Léopoldine Lalu\, Pierre Sullivan et Bernard Touati.\n\n
 [pdf-embedder url="https://www.spp.asso.fr/wp-content/uploads/2024/05/Affi
 che-Cinepsy_19.06.2024.pdf" width="100%"]\n\nRevue de presse\n\n\n\n\n\nDe
 s griffes poussent sous les ongles\, une fourrure ou des écailles colonis
 ent la peau. Des tentacules\, des mandibules\, des membranes. La fonction 
 du langage se dérobe lentement\, au profit des râles bruts de la nature\
 , cris\, grognements\, stridulations… Les symptômes varient\, mais le p
 hénomène est identique\, inexorable\, étrange épidémie dont on ne con
 naît ni l’origine ni le remède. Partout\, dans notre monde familier\, 
 avec ses agglomérations ordinaires\, ses embouteillages et ses supermarch
 és\, des êtres humains se transforment\, peu à peu possédés par la b
 ête qui s’éveille en eux\, remodèle leur chair et leur esprit.\nCéci
 le Mury\, Télérama\n \nLes uns les appellent «créatures» \; les autr
 es préfèrent dire «bestioles». De quoi parlent-ils? Le monde a changé
 . Certains humains se transforment plus ou moins en animaux. Dans l’embo
 uteillage du début\, une sorte de grand oiseau s’échappe d’une ambul
 ance. Un père et un fils assistent à la scène. Ils sont habitués. Leur
  épouse et mère les attend dans un centre spécialisé\, couverte de poi
 ls\, méconnaissable\, sosie de Jean Marais dans La Belle et la Bête. Il 
 ne reste que son regard. Désemparés\, unis\, se percutant comme deux sil
 ex\, François et Émile partent pour le Sud. (…)\nThomas Cailley filme 
 une réalité qui se dérègle\, effectue un pas de côté. Ce fantastique
  «soft»\, quotidien\, bénéficie d’effets spéciaux qui sont tout sau
 f racoleurs. Une sorte de poulpe sème la pagaille dans un supermarché. U
 ne drôle de bête surprend le héros dans un hangar à bateaux. Drôle d
 ’ambiance. Les habitants sont partagés. Il y en a qui sont prêts à co
 habiter. En face\, les sceptiques n’hésiteront pas à sortir le fusil. 
 (…)\nLe Règne animal détonne par sa maîtrise\, son originalité\, cet
 te faculté à mêler les genres\, sans rien qui pose ou qui pèse. Avec C
 ailley\, on est prêt à avaler toutes les couleuvres. L’espèce ne figu
 re pourtant pas au générique.\nEric Neuhoff\, Le Figaro\n\nJamais le pla
 idoyer écolo ne prendra le pas sur le merveilleux\, et l’interrogation 
 philosophique et sociale (Le Règne Animal synthétise les questionnement
 s de Bruno Latour et de Baptiste Morizot) ne viendra pas écraser le film 
 de genre. C’est sans doute que tout cela est drivé par un geste de cin
 éma hallucinant et surtout par des personnages qui restent constamment le
  cœur du projet. Par quel diablerie un cinéaste français a-t-il pu déj
 ouer tous les pièges de l’industrie et accoucher d’un spectacle parei
 l ? C’est la question qu’on se pose depuis qu’on a découvert le fi
 lm à Cannes. Mais pour l’instant\, un conseil : trouvez-vous une place
  dans la petite bagnole de Romain Duris\, accrochez votre ceinture\, et pr
 éparez-vous au choc. Le Règne animal est un chef-d’œuvre étourdiss
 ant.\nGael Golhen\, Première\n\n\n\n\n
ATTACH;FMTTYPE=image/jpeg:https://www.spp.asso.fr/wp-content/uploads/2024/
 05/Affiche-Cinepsy-le-regne-animal_19.06.2024_2.jpg
CATEGORIES:cinéma et psychanalyse
LOCATION:Studio des Ursulines\, 10 RUE DES URSULINES \, 75005 PARIS\, Franc
 e
GEO:48.8427274;2.3420674999999846
X-APPLE-STRUCTURED-LOCATION;VALUE=URI;X-ADDRESS=10 RUE DES URSULINES \, 750
 05 PARIS\, France;X-APPLE-RADIUS=100;X-TITLE=Studio des Ursulines:geo:48.8
 427274,2.3420674999999846
END:VEVENT
BEGIN:VTIMEZONE
TZID:Europe/Paris
X-LIC-LOCATION:Europe/Paris
BEGIN:DAYLIGHT
DTSTART:20240331T030000
TZOFFSETFROM:+0100
TZOFFSETTO:+0200
TZNAME:CEST
END:DAYLIGHT
END:VTIMEZONE
END:VCALENDAR