
BEGIN:VCALENDAR
VERSION:2.0
PRODID:-//wp-events-plugin.com//7.2.3.1//EN
TZID:Europe/Paris
X-WR-TIMEZONE:Europe/Paris
BEGIN:VEVENT
UID:351@spp.asso.fr
DTSTART;TZID=Europe/Paris:20221107T210000
DTEND;TZID=Europe/Paris:20221107T223000
DTSTAMP:20221029T202614Z
URL:https://www.spp.asso.fr/events/cip-groupe-nord-forme-masochique-de-la-
 perversion-narcissique-agir-et-faire-agir-transferentiels/
SUMMARY:CIP Groupe Nord : « Forme masochique de la perversion narcissique 
 : agir et faire agir transférentiels »
DESCRIPTION:\n\n\nPhilippe SAIELLI\n(Psychanalyste\, membre de la sociéte
 ́ Psychanalytique de Paris\, membre formateur et secrétaire général
  de l’APAOR)\n« Forme masochique de la perversion narcissique : agir et
  faire agir transférentiels »\nLa perversion narcissique est définie 
 par P.-C. Racamier en 1987 et 1992\, comme « une organisation durable ou 
 transitoire caractérisée par le besoin\, la capacité et le plaisir d
 e se mettre à l’abri des conflits internes et en particulier du deuil\
 , en se faisant valoir au détriment d’un objet manipulé comme un ust
 ensile et un faire-valoir ». Si la littérature sur la perversion narcis
 sique a très bien décrit la forme sadique\, elle reste assez discrèt
 e sur la forme masochiste. Après avoir donné une définition de la fo
 rme masochiste de la perversion narcissique nous développerons l’hypot
 hèse que c’est dans les agirs et faire-agirs transférentiels qu’el
 le se déploie dans le processus analytique. Ceci nous permettra de mettr
 e en évidence les liens entre la forme masochique de la perversion\, les
  phénomènes de la réaction thérapeutique négative et le transfer
 t paradoxal (D. Anzieu).\nLundi 7 novembre. De 20h30 à 22h00\nLieu : sal
 le de l’U.R.I.O.P.S.S.\n199 – 201 rue Colbert\, Bâtiment Douai\, 5e
 ̀me étage 59000 LILLE\nPour une bonne organisation matérielle nous vo
 us remercions de nous contacter par mail :\ncontact@groupenord-spp.fr\n\n\
 n\n\n\n\n\n\nLe règlement de participation aux frais (10 €\, gratuit p
 our les étudiants) doit être accompagné du talon ci-dessous et adres
 sé à :\nMaurice Henniaux 20 rue de Loos 59000 LILLE.\nLe règlement s
 ur la place le jour de la conférence est possible ----------------------
 --------------------------------------------------------------------------
 ----------------- M.......................................................
 .........................................participera à la conférence d
 e Philippe Saielli et joint un chèque de 10€ Merci d’indiquer votre 
 adresse mail..............................................................
 ..................................\n\n\n\n\n[pdf-embedder url="https://www
 .spp.asso.fr/wp-content/uploads/2022/10/invitation-Philippe-Saielli.pdf" t
 itle="invitation Philippe Saielli" width="100%"]
ATTACH;FMTTYPE=image/jpeg:https://www.spp.asso.fr/wp-content/uploads/2022/
 10/groupe-nord-spp.jpg
CATEGORIES:CIP Nord,Conférences d'introduction à la psychanalyse
LOCATION:Salle URIOPSS Lille\, 199-201 rue Colbert\, Bâtiment Douai\, 5e 
 étage\, Lille\, 59800\, Haut de France\, France
GEO:50.634414;3.04109
X-APPLE-STRUCTURED-LOCATION;VALUE=URI;X-ADDRESS=199-201 rue Colbert\, Bâti
 ment Douai\, 5e étage\, Lille\, 59800\, Haut de France\, France;X-APPLE-R
 ADIUS=100;X-TITLE=Salle URIOPSS Lille:geo:50.634414,3.04109
END:VEVENT
BEGIN:VTIMEZONE
TZID:Europe/Paris
X-LIC-LOCATION:Europe/Paris
BEGIN:STANDARD
DTSTART:20221030T020000
TZOFFSETFROM:+0200
TZOFFSETTO:+0100
TZNAME:CET
END:STANDARD
END:VTIMEZONE
END:VCALENDAR