
BEGIN:VCALENDAR
VERSION:2.0
PRODID:-//wp-events-plugin.com//7.2.3.1//EN
TZID:Europe/Paris
X-WR-TIMEZONE:Europe/Paris
BEGIN:VEVENT
UID:160@spp.asso.fr
DTSTART;TZID=Europe/Paris:20191114T210000
DTEND;TZID=Europe/Paris:20191114T230000
DTSTAMP:20191124T140438Z
URL:https://www.spp.asso.fr/events/cip-le-traumatisme-et-son-dire-par-rach
 el-rosenblum/
SUMMARY:CIP - "Le traumatisme et son dire" par Rachel Rosenblum
DESCRIPTION:Jeudi 14 novembre 2019 à 21h à la SPP\nConférence de Rachel 
 Rosenblum dans le cadre des Conférences d'introduction à la psychanalyse
  (conférence du jeudi "La psychanalyse de l'adulte").
ATTACH;FMTTYPE=image/jpeg:https://www.spp.asso.fr/wp-content/uploads/2019/
 10/R.ROSENBLUM-2-2.jpg
CATEGORIES:Conférences,Paris,SPP Paris
LOCATION:Salle des conférences SPP\, 21 rue Daviel\, Paris\, 75013\, Franc
 e
GEO:48.8280054;2.3447788999999375
X-APPLE-STRUCTURED-LOCATION;VALUE=URI;X-ADDRESS=21 rue Daviel\, Paris\, 750
 13\, France;X-APPLE-RADIUS=100;X-TITLE=Salle des conférences SPP:geo:48.8
 280054,2.3447788999999375
END:VEVENT
BEGIN:VTIMEZONE
TZID:Europe/Paris
X-LIC-LOCATION:Europe/Paris
BEGIN:STANDARD
DTSTART:20191027T020000
TZOFFSETFROM:+0200
TZOFFSETTO:+0100
TZNAME:CET
END:STANDARD
END:VTIMEZONE
END:VCALENDAR