
BEGIN:VCALENDAR
VERSION:2.0
PRODID:-//wp-events-plugin.com//7.2.3.1//EN
TZID:Europe/Paris
X-WR-TIMEZONE:Europe/Paris
BEGIN:VEVENT
UID:467@spp.asso.fr
DTSTART;TZID=Europe/Paris;VALUE=DATE:20240920
DTEND;TZID=Europe/Paris;VALUE=DATE:20240922
DTSTAMP:20241003T074511Z
URL:https://www.spp.asso.fr/events/cocap-2024-compulsive-body-mind/
SUMMARY:COCAP 2024 : Compulsive body/mind
DESCRIPTION:Le Comité pour la Psychanalyse de l'Enfant et de l'Adolescent 
 de l’Association Psychanalytique Internationale (COCAP) est heureux de 
 vous annoncer une nouvelle conférence\nsur la clinique contemporaine des
  patients soumis à une répétition compulsive destructrice pour le cor
 ps.\nLes organisateurs proposent une conférence internationale\, en ligne
 \, avec traduction simultanée\,\ncomposée d'une session plénière et de
  3 panels.\n20/21\, et 27/28 Septembre\nIl est temps de vous inscrire !\nh
 ttps://web.cvent.com/event/7d5ce692-ee5b-4d1f-a699-573c1fc752ac/websitePag
 e:f70d47e9-106c-4d4d-9818-3fbae66fc406\nRenseignements et programme\n&nbsp
 \;\n
ATTACH;FMTTYPE=image/jpeg:https://www.spp.asso.fr/wp-content/uploads/2024/
 04/COCAP_2024.webp
CATEGORIES:Colloques,International
LOCATION:ZOOM\, visioconférence\, ZOOM\, -\, -\, -\, France
X-APPLE-STRUCTURED-LOCATION;VALUE=URI;X-ADDRESS=visioconférence\, ZOOM\, -
 \, -\, -\, France;X-APPLE-RADIUS=100;X-TITLE=ZOOM:geo:0,0
END:VEVENT
BEGIN:VTIMEZONE
TZID:Europe/Paris
X-LIC-LOCATION:Europe/Paris
BEGIN:DAYLIGHT
DTSTART:20240331T030000
TZOFFSETFROM:+0100
TZOFFSETTO:+0200
TZNAME:CEST
END:DAYLIGHT
END:VTIMEZONE
END:VCALENDAR