
BEGIN:VCALENDAR
VERSION:2.0
PRODID:-//wp-events-plugin.com//7.2.3.1//EN
TZID:Europe/Paris
X-WR-TIMEZONE:Europe/Paris
BEGIN:VEVENT
UID:58@spp.asso.fr
DTSTART;TZID=Europe/Paris:20190209T133000
DTEND;TZID=Europe/Paris:20190209T180000
DTSTAMP:20190210T051417Z
URL:https://www.spp.asso.fr/events/colloque-2019-de-la-revue-francaise-de-
 psychanalyse-regard/
SUMMARY:Colloque 2019 de la Revue française de psychanalyse - Regard
DESCRIPTION:Colloque 2019\nde la Revue française de psychanalyse\nREGARD\n
 \nSous la présidence\nde Françoise Coblence et Denys Ribas\n\nSAMEDI 9 F
 ÉVRIER 2019\n13h30 à 18h00\nSalle de l’Association quartier Notre-Dame
  des Champs\n92bis boulevard du Montparnasse 75014 Paris\n\n&nbsp\;\nProgr
 amme\n\n13h - Accueil des participants\n13h30 - Ouverture du colloque par 
 Denys Ribas\nIntroduction - Françoise Coblence \n14h - Table ronde\nModé
 ratrice : Klio Bournova\nIntervenants : Paul Denis\, Mathilde Saiet\, Sy
 lvie Pons-Nicolas \n\n15h45 - 16h15 : Pause\n\n16h15 - Table ronde\nModér
 ateur : Jean-François Gouin\nIntervenants : Marianne Massin\, Béatrice 
 Braun-Guédel\, Pascale Navarri \n\n17h45 - Conclusion\n\nTélécharger l
 e programme et le bulletin d'inscription\n\nA l'affiche : Au bateau d'Edo
 uard Sacaillan\, acrylique sur toile\, 100x80cm\, 2015\, Courtesy Galerie
  Minsky\, Paris.\n\n&nbsp\;\nArgument\nAux débuts de la psychanalyse\, Fr
 eud décide de soustraire l’analyste au regard du patient. Ce retrait ma
 rque à la fois l’abandon de l’hypnose\, l’instauration de la cure d
 e parole et ouvre le champ du regard vers le dedans\, vers l’intimité d
 e la vie psychique.\nInterrogé par les philosophes\, scruté par les pein
 tres\, identifié parfois à l’âme elle-même\, le regard est au cœur 
 des tensions entre désir et interdit de voir\, source et objet de la puls
 ion. Les travaux de Winnicott\, Lacan\, Bion\, et de bien d’autres à le
 ur suite\, montrent comment le regard\, pour peu qu’il soit habité et p
 orteur d’une intériorité\, est impliqué dès le début de la vie dans
  la constitution du sujet et de l’altérité\, mais comment\, a contrari
 o\, un regard vide de désir\, contrarie et désorganise durablement le d
 éveloppement.\nLe regard sollicite tous les couples d’opposés. Se mont
 rer\, s’exhiber\, voir\, animent de nombreuses manifestations du sexuel 
 infantile. Ils peuvent aussi donner forme au clivage du moi dans les organ
 isations perverses. La modernité médiatique et les innovations technolog
 iques développent jusqu’à l’excès la capture du voir sur les modes 
 actif ou passif. Narcisse y fait-il son lit ?\nÀ l’heure où l’import
 ance du regard est également un élément essentiel pour décider du cadr
 e\, ce sont tous ces aspects du regard que notre colloque tentera de quest
 ionner.\n\n&nbsp\;
ATTACH;FMTTYPE=image/jpeg:https://www.spp.asso.fr/wp-content/uploads/2018/
 10/Colloque-2019-RFP-Regard-affiche-1.jpg
CATEGORIES:Colloques,Paris
LOCATION:Salle de l’Association quartier Notre-Dame des Champs\, 92bis bo
 ulevard du Montparnasse \, Paris\, France
X-APPLE-STRUCTURED-LOCATION;VALUE=URI;X-ADDRESS=92bis boulevard du Montparn
 asse \, Paris\, France;X-APPLE-RADIUS=100;X-TITLE=Salle de l’Association
  quartier Notre-Dame des Champs:geo:0,0
END:VEVENT
BEGIN:VTIMEZONE
TZID:Europe/Paris
X-LIC-LOCATION:Europe/Paris
BEGIN:STANDARD
DTSTART:20181028T020000
TZOFFSETFROM:+0200
TZOFFSETTO:+0100
TZNAME:CET
END:STANDARD
END:VTIMEZONE
END:VCALENDAR