
BEGIN:VCALENDAR
VERSION:2.0
PRODID:-//wp-events-plugin.com//7.2.3.1//EN
TZID:Europe/Paris
X-WR-TIMEZONE:Europe/Paris
BEGIN:VEVENT
UID:118@spp.asso.fr
DTSTART;TZID=Europe/Paris:20191123T084500
DTEND;TZID=Europe/Paris:20191123T170000
DTSTAMP:20191123T105749Z
URL:https://www.spp.asso.fr/events/colloque-annuel-de-lifagp-institution-g
 roupes-et-psychodrame-dans-les-pratiques-cliniques-actuelles/
SUMMARY:Colloque annuel de l'IFAGP - Institution : Groupes et psychodrame d
 ans les pratiques cliniques actuelles
DESCRIPTION:Colloque annuel de l'IFAGF\nInstitut français d'Analyse de gro
 upe et de Psychodrame\nINSTITUTION : GROUPES ET PSYCHODRAME DANS LES PR
 ATIQUES CLINIQUES ACTUELLES\nsamedi 23 novembre 2019\n92 bis\, boulevard 
 du Montparnasse\, 75014 Paris\nInformations et bulletin d'inscription\n\nA
 rgument :\n\nDans Malaise dans la Culture\, S. FREUD\, en 1930\, inquiet e
 t pessimiste devant l’évolution de la société\, engageait la pensée 
 psychanalytique dans une réflexion sur les conflits mis en tension dans l
 e destin de la vie collective\, ainsi que sur le devenir des repères cult
 urels soumis à ce qu’il est toujours difficile de reconnaître comme ca
 use première : la pulsion de mort\, dans les différentes figures de la d
 estructivité.\n\nQu’en est-il de l’actualité de ce « mal-être » d
 ont parle R. KAËS\, de ces souffrances narcissiques et identitaires qui s
 ont déposées dans les institutions et mises en jeu dans les dispositifs 
 de groupes ? Qu’en est-il de cette « écologie du soin psychique »\, d
 ans ces lieux confrontés à l’accueil et au traitement de ces situation
 s de vie aux limites du pensable\, à ces douleurs extrêmes décrites par
  R. PUYUELO ?\n\nEn 1998\, C. OUZILOU écrivait déjà : « Les institutio
 ns dont nous parlons aujourd’hui sont des lieux sensibles parce qu’ell
 es sont au centre des préoccupations très actuelles. Elles sont travers
 ées par des courants politiques\, économiques\, sociaux\, idéologiques 
 et subissent des influences\, voire des pressions\, qui ne peuvent pas êt
 re ignorées car elles font poids dans les choix d’orientation de l’é
 tablissement et dans son fonctionnement. »\n\nAujourd’hui les établiss
 ements de santé\, comme ceux impliqués dans le champ éducatif\, sont au
 x prises avec la fièvre managériale comme avec les conceptions nouvelles
  des maladies mentales et des traitements qui s’y attachent. Les nouvell
 es politiques d’« inclusion »\, pour généreuses qu’elles se veuill
 ent\, ne sont pas sans entraîner toutes sortes de difficultés. Un grand 
 nombre de ces organisations négocient ces transformations dans des états
  de mal être\, individuel et groupal\, qui mettent parfois en péril les 
 liens de co-étayage entre le cadre institutionnel et les cadres de soins.
 \n\nNous faisons le constat que de nombreux lieux de soins sont affectés 
 par l’inquiétant reflet de cette détresse sociale et de ses traduction
 s dans les pathologies de l’agir. Ceci doit nous amener à repenser les 
 articulations entre la réalité interne et la réalité externe dans la c
 ompréhension et les aménagements thérapeutiques nécessaires.\n\nLa psy
 chanalyse\, et les pratiques de groupe qui s’en inspirent\, ont encore d
 e bonnes cartes à mettre en jeu et cela tant dans le domaine du soin que 
 dans celui de l’accompagnement à penser des professionnels\, ainsi que 
 dans leur formation. À partir des différentes expériences cliniques pr
 ésentées lors de ce colloque\, nous examinerons comment nos pratiques de
  groupes et de psychodrames\, analytiquement conduits\, peuvent trouver et
  créer des réponses thérapeutiques à ces nouvelles formes d’impasses
  de la subjectivation.\n\nCette journée devrait nous faire parcourir la d
 iversité des domaines où ces approches restent pertinentes et porteuses 
 d’avenir.\n\nProgramme\n\n8h45 : Accueil\n9h00 : PRÉSENTATION - Claude
  OUZILOU\, Président de l’IFAGP\n9h15 : INTRODUCTION DE LA JOURNÉE - 
 Alain DUBOIS\n9h30 : SCÉNOGRAPHIES INSTITUTIONNELLES DU SOIN DE L’ÊTRE
  ENTRE DYNAMIQUE SPATIALE ET TEMPS VÉCU POUR UN LANGAGE INCARNÉ ET ADRE
 SSÉ - Rémy PUYELO\n\n10h45 : Pause\n\n11h15 : QUELQUES NOTES SUR LA CIR
 CULATION DE L’AFFECT DANS LE PSYCHODRAME - Bernard BASTEAU\n\n12h30 Dé
 jeuner sur place\n\n14h00 : « À TABLE! »: LE FANOPHONE\, UNE HISTOIRE S
 ON-PAROLE - Valérie ADRIAN\, Gilles ORLIAGUET\, Stéphane SEVA\n15h00 : 
 LES INTERVENTIONS EN INSTITUTIONS : UN TRAVAIL DE PORTANCE DE LA MISE EN R
 ÉCIT POUR SORTIR DES IMPASSES DU NÉGATIF\nJean-Pierre LEYMARIE – Disc
 utante : Corinne MARC\n\n16h00 : TABLE RONDE AVEC LES INTERVENANTS DE LA J
 OURNÉE\n\n17h00 : Fin des travaux\n\nMODÉRATEUR DE LA JOURNÉE : Alain D
 UBOIS\n\nChaque exposé sera suivi d’une discussion avec la salle
ATTACH;FMTTYPE=image/jpeg:https://www.spp.asso.fr/wp-content/uploads/2019/
 03/Colloque_IFAGP_2019.jpg
CATEGORIES:Colloques,Paris
LOCATION:Association Notre-Dame-des-Champs\, 92 bis\, boulevard du Montparn
 asse\, Paris\, 75014 \, France
GEO:48.8427045;2.326885100000027
X-APPLE-STRUCTURED-LOCATION;VALUE=URI;X-ADDRESS=92 bis\, boulevard du Montp
 arnasse\, Paris\, 75014 \, France;X-APPLE-RADIUS=100;X-TITLE=Association N
 otre-Dame-des-Champs:geo:48.8427045,2.326885100000027
END:VEVENT
BEGIN:VTIMEZONE
TZID:Europe/Paris
X-LIC-LOCATION:Europe/Paris
BEGIN:STANDARD
DTSTART:20191027T020000
TZOFFSETFROM:+0200
TZOFFSETTO:+0100
TZNAME:CET
END:STANDARD
END:VTIMEZONE
END:VCALENDAR