
BEGIN:VCALENDAR
VERSION:2.0
PRODID:-//wp-events-plugin.com//7.2.3.1//EN
TZID:Europe/Paris
X-WR-TIMEZONE:Europe/Paris
BEGIN:VEVENT
UID:125@spp.asso.fr
DTSTART;TZID=Europe/Paris:20190819T130000
DTEND;TZID=Europe/Paris:20190826T180000
DTSTAMP:20190827T081217Z
URL:https://www.spp.asso.fr/events/colloque-cerisy-psychanalyse-et-culture
 -loeuvre-de-nathalie-zaltzman/
SUMMARY:Colloque de Cerisy - Psychanalyse et culture : l’œuvre de Nathal
 ie Zaltzman
DESCRIPTION:Colloque de Cerisy\nlundi 19 août - lundi 26 août 2019\n\nPsy
 chanalyse et culture :\nl’œuvre de Nathalie Zaltzman\nDirection :\nJean
 -François CHIANTARETTO\, Georges GAILLARD\nCCIC – 2\, Le Château\, 50
 210 Cerisy-la-Salle\, France\n&nbsp\;\nArgument\nAvec les catastrophes gé
 nocidaires et leur projet négateur de l’appartenance humaine des victim
 es\, dont la Shoah a constitué la figure emblématique\, le vingtième s
 iècle a marqué une rupture dans la culture. « L’écroulement de ce 
 qui assurait à chacun\, à son insu\, inconsciemment\, la certitude d’u
 n pacte entre l’homme et lui-même\, et les autres\, cet écroulement a
  eu lieu\, quelles que soient nos forces de dénégation ».\n\nDans la 
 perspective ouverte par Freud avec Malaise dans la culture\, Nathalie Zalt
 zman a pris acte de l’absolue nécessité de repenser le travail de la 
 culture\, qui s’accomplit par le « psychique dans l’individuel ».
  Le travail de la culture\, consistant à rendre (partiellement) pensable 
 ce qui indissociablement anime le sujet\, le dépasse et lui échappe\, e
 st au cœur du travail de la cure. Cette posture théorique novatrice pro
 cède de l’invention en 1979 du concept de « pulsion anarchiste »\, 
 qui a fait date dans le champ psychanalytique\, tant au plan national qu
 ’international\, et participait d’une critique de la tendance des ana
 lystes à ramener toute conflictualité psychique au couple sexuel/narciss
 ique.\n\nIl s’agit de prolonger la théorisation freudienne de la pulsio
 n de mort\, en l’enrichissant d’une variante au service de la (sur)vi
 e. Nathalie Zaltzman repense ainsi l’articulation narcissisme individuel
 /narcissisme collectif et dessine une approche de la négativité\, au-del
 à de l’auto-destructivité narcissique de type mélancolique ou de la h
 aine de la culture suscitée par l’exigence collective de sacrifices pul
 sionnels. Dans cette perspective\, l’espace culturel apparaît irréméd
 iablement traversé par une lutte entre le travail de la culture comme pri
 se de conscience transformatrice du négatif et la régression (auto)-dest
 ructrice\, agglomérant dans la masse l’individuel et le collectif.\n\nC
 e colloque\, ouvert aux psychanalystes comme à tous les auditeurs curieux
 \, visera à faire comprendre la place aujourd’hui décisive de cette œ
 uvre. Elle vient témoigner de l’importance vitale tout à la fois de la
  psychanalyse pour penser la puissance bivalente des processus culturels e
 t de ce travail de pensée pour maintenir la puissance thérapeutique et 
 scientifique de la psychanalyse.\nProgramme\nLundi 19 août\nAprès-midi :
  ACCUEIL DES PARTICIPANTS\nSoirée : Présentation du Centre\, des collo
 ques et des participants\n\nMardi 20 août\nMatin :\nMonette VACQUIN : Dé
 mesure et civilisation… Et retour\nJean-Michel HIRT : La chute des corps
 \nAprès-midi :\nGeneviève BRISAC (écrivain) : Carte blanche\n\nMercredi
  21 août\nMatin :\nCatherine MATHA : Souffrir maintenant et indéfiniment
  : une maladie trop humaine\nRaphaël MINJARD : Du chaos à la pulsion ana
 rchiste : l’antre de l’éveil\nAprès-midi :\nJean-Pierre PINEL : Les 
 alliances inconscientes psychopathiques\, une figure du Mal\nEvelyne TYSEB
 AERT : Le mal. Ses représentations entre corps individuel et corps du mon
 de\n\nJeudi 22 août\nMatin :\nGeorges GAILLARD : Travail de culture et re
 ncontre avec « les figures intimes de la barbarie »\nGaia BARBIERI : V
 aleur subversive de Thanatos dans l’accompagnement clinique des sujets 
 migrants\nAprès-midi : DÉTENTE\n\nVendredi 23 août\nMatin :\nAndré BE
 ETSCHEN : Le meurtre et le mal : destins croisés de Nathalie Zaltzman et 
 Marie Moscovici.\nJean-François CHIANTARETTO : Travail de la culture\, tr
 avail de la mélancolie.\nAprès-midi :\nGhyslain LÉVY : Les émissaires 
 de l’ailleurs\nNoémie DURR : La rencontre d’un sujet hors héritage\,
  étranger en lui-même\n\nSamedi 24 août\nMatin :\nBarbara DE ROSA : Nat
 halie Zaltzman et l’enjeu du Kulturarbeit dans la rencontre entre témoi
 gnage et écoute\nAline COHEN DE LARA : Déliaison de vie ?\nAprès-midi 
 :\nFrançois VILLA : Psyché anarchiste\, psyché totalitaire ?\nIsabelle 
 LASVERGNAS : La pulsion anarchiste : pour un retour vers une métasociolog
 ie psychanalytique\n\nDimanche 25 août\nMatin :\nEllen CORIN : Jouer ave
 c des forces déliantes : un parcours risqué\nChristian FERRIÉ : Destins
  collectifs de la pulsion anarchiste (des rois de Thulé aux chefferies Tu
 pi-Guarani)\nAprès-midi:\nMarie-Françoise LAVAL-HYGONENQ : De la pulsion
  de mort à la question de l’auto-conservation\nArlette LECOQ : Entre l
 ’esprit du mal et la vie de l’esprit. De Richard III à Broddeck\n\nLu
 ndi 26 août\nMatin : Bilan et clôture du colloque\nAprès-midi : DÉPA
 RTS\n\n&nbsp\;\n\nPARTICIPATION AUX FRAIS\n\nArrhes d’engagement : 105 
 € (étudiant de moins de 28 ans : 51 €)\nSéjour complet (7 jours) : 5
 95 € (Étudiant de moins de 28 ans : 280 €)\nSéjour fractionné : 105
  € par jour (Étudiant de moins de 28 ans : 51 € par jour)\n\nOrganism
 e déclaré au titre de la Formation professionnelle continue\, enregistr
 é sous le numéro: 25 50 00326 60.Cerisy\n\ntélécharger le bulletin d'
 inscription
ATTACH;FMTTYPE=image/jpeg:https://www.spp.asso.fr/wp-content/uploads/2019/
 05/CERISY_2019-_Visuel.jpg
CATEGORIES:Colloques,Congrès,Province
LOCATION:CCIC\, 2\, Le Château\, Cerisy-la-Salle\, 50210 \, France
GEO:49.020943;-1.2883469999999306
X-APPLE-STRUCTURED-LOCATION;VALUE=URI;X-ADDRESS=2\, Le Château\, Cerisy-la
 -Salle\, 50210 \, France;X-APPLE-RADIUS=100;X-TITLE=CCIC:geo:49.020943,-1.
 2883469999999306
END:VEVENT
BEGIN:VTIMEZONE
TZID:Europe/Paris
X-LIC-LOCATION:Europe/Paris
BEGIN:DAYLIGHT
DTSTART:20190331T030000
TZOFFSETFROM:+0100
TZOFFSETTO:+0200
TZNAME:CEST
END:DAYLIGHT
END:VTIMEZONE
END:VCALENDAR