
BEGIN:VCALENDAR
VERSION:2.0
PRODID:-//wp-events-plugin.com//7.2.3.1//EN
TZID:Europe/Paris
X-WR-TIMEZONE:Europe/Paris
BEGIN:VEVENT
UID:415@spp.asso.fr
DTSTART;TZID=Europe/Paris:20240203T133000
DTEND;TZID=Europe/Paris:20240203T180000
DTSTAMP:20240212T092125Z
URL:https://www.spp.asso.fr/events/colloque-de-la-rfp-2024-lhysterie-encor
 e/
SUMMARY:Colloque de la RFP 2024 : l'hystérie\, encore ?
DESCRIPTION:L’hystérie\, encore ?\nsous la direction de\nMichel Picco\,
  Piotr Krzakowski\, Thierry Schmeltz \nSamedi 3 février 2024\, 13h30-18h
 00\nen présence et en visioconférence\n21 rue Daviel\, 75013 Paris\n&nbs
 p\;\nArgument\nQuelle place l’hystérie tient-elle dans la clinique et l
 es théories contemporaines ? Décrite depuis l’antiquité\, l’hysté
 rie n’a cessé de constituer une énigme. Face à cette entité protéif
 orme\, Freud\, en contrechamp de ses travaux sur elle\, a pu la délimiter
  en décrivant la névrose d’angoisse\, la névrose de contrainte\, la m
 élancolie ou encore la paranoïa. Par la suite\, s’est posée la questi
 on pour les psychanalystes des rapports de l’hystérie avec les états-l
 imite ou les organisations psychosomatiques\, la psychose ou même le fonc
 tionnement psychique ordinaire.\n\nL’hystérie est aussi intimement lié
 e à la naissance de la psychanalyse à laquelle\, à partir de Freud\, el
 le a donné ses principaux concepts ainsi que sa méthode – au point d
 ’entendre parfois que la psychanalyse n’est qu’une théorie de l’h
 ystérie. Mais qu’en est-il de la pertinence de son modèle au regard de
 s formes d’expression actuelles de la psychopathologie et de la diversit
 é des pratiques ? Si l’hystérie n’a pas disparu\, en quoi s’est-e
 lle convertie ? Invoquer\, encore\, l’hystérie aujourd’hui\, c’es
 t faire s’interroger mutuellement l’histoire et l’avenir de la psych
 analyse.\nProgramme\n13h00 : Accueil des participants\n13h30 : Allocutio
 n par Emmanuelle Chervet\, présidente de la Société psychanalytique de 
 Paris\nIntroduction au Colloque : Sabina lambertucci-Mann\, directrice ad
 jointe de la RFP\n14h00-15h00 : Première table ronde\nModérateurs :  T
 hierry Schmeltz et Piotr Krzakowski\nIntervenants :\nMario De Vincenzo : 
 L’hystérie et les affres du désir\nClaire-Marine François-Poncet : L
 e modèle de l’hystérie traumatique : un paradigme à l’adolescence
  ?\n15h30-16h00 : Pause\n16h00-17h30 : Deuxième table ronde\nModérateur
  : Michel Picco\nIntervenants :\nBernard Chervet : Hystérie et identifi
 cation hystérique. De la conversion à la contagion\nJacqueline Schaeffer
  : Le cas Dora revisité\n17h30 : Conclusion\nVassilis Kapsambelis\, dire
 cteur de la Revue française de Psychanalyse\nModalités\nInscription via 
 la boutique de la SPP (www.boutique.spp.asso.fr)\nFrais d’inscription :
  50 €\, Analystes en formation : 20 €\,\nÉtudiants\, demandeurs d’
 emploi : 10 €\nLa présence en salle doit être demandée au moment de 
 l’inscription. Elle se fera dans la limite des places disponibles.
ATTACH;FMTTYPE=image/jpeg:https://www.spp.asso.fr/wp-content/uploads/2023/
 10/colloque-de-la-rfp_2024_ima.jpg
CATEGORIES:Colloques
LOCATION:SPP\, 21 rue Daviel\, Paris\, 75013\, France
X-APPLE-STRUCTURED-LOCATION;VALUE=URI;X-ADDRESS=21 rue Daviel\, Paris\, 750
 13\, France;X-APPLE-RADIUS=100;X-TITLE=SPP:geo:0,0
END:VEVENT
BEGIN:VTIMEZONE
TZID:Europe/Paris
X-LIC-LOCATION:Europe/Paris
BEGIN:STANDARD
DTSTART:20231029T020000
TZOFFSETFROM:+0200
TZOFFSETTO:+0100
TZNAME:CET
END:STANDARD
END:VTIMEZONE
END:VCALENDAR