
BEGIN:VCALENDAR
VERSION:2.0
PRODID:-//wp-events-plugin.com//7.2.3.1//EN
TZID:Europe/Paris
X-WR-TIMEZONE:Europe/Paris
BEGIN:VEVENT
UID:184@spp.asso.fr
DTSTART;TZID=Europe/Paris:20201107T090000
DTEND;TZID=Europe/Paris:20201107T180000
DTSTAMP:20201109T103331Z
URL:https://www.spp.asso.fr/events/colloque-de-la-spp-memoires-se-souvenir
 -oublier/
SUMMARY:Colloque de la SPP - Mémoires : se souvenir\, oublier
DESCRIPTION:DERNIÈRE MINUTE : \nCOLLOQUE EXCLUSIVEMENT EN VISIO-CONFÉRENC
 E\nLIRE LES MODALITÉS D'INSCRIPTION\n\nColloque ouvert\nde la Société p
 sychanalytique de Paris\nMémoires : se souvenir\, oublier\n7 Novembre 20
 20\n9h00-18h00\n&nbsp\;\nArgument\nLa psychanalyse est travail de mémoire
  : le symptôme est réminiscence\, le rêve transformation et voie de re
 tour de ce qui fut inscrit. Le refoulement\, dialectique du souvenir et de
  l’oubli\, conserve les représentations indésirables dont le sujet se 
 protège. Et la mémoire se réorganise autour des déchirures laissées p
 ar le traumatisme en créant des après-coups successifs. Quel que soit le
  cadre clinique\, le travail analytique cherche à installer un mode de pe
 nsée qui puisse accueillir la remémoration et permettre le retour du pas
 sé par les voies du transfert. C’est finalement l’interprétation de 
 celui-ci qui permet un réaménagement du passé\, plus souple et moins co
 ntraignant.\n\nAujourd’hui\, les neurosciences et la biologie croisent c
 es perspectives : par leurs frayages en incessante réorganisation\, les 
 réseaux de la mémoire construisent l’identité\, la capacité à s’a
 dapter au monde et à le transformer. Les gènes mêmes s’expriment en f
 onction des après-coups de l’expérience vécue\, un dialogue peut donc
  s’établir entre neurosciences et psychanalyse quant aux modalités de 
 ces inscriptions.\n\nParallèlement\, et en partie sous l’influence de l
 a pensée freudienne\, les formes du travail de mémoire dans la culture s
 e modifient : l’histoire moderne interroge l’interprétation du pass
 é\, la littérature explore ses infinis retours\, la sociologie et l’an
 thropologie décrivent les dispositifs commémoratifs qui soutiennent le t
 ravail de deuil tandis que le législateur se penche sur le droit à l’
 oubli. Il faut oublier pour se souvenir.\nProgramme\n9h-9h30 Introduction\
 n\nClarisse Baruch\, présidente de la Société psychanalytique de Paris\
 n\n9h30-11h Table ronde 1 : Transformations de la mémoire\n\nCatherine Du
 carre\, Psychanalyste SPP : Un souvenir\, ça n’existe pas !\nClaude Sma
 dja\, Psychanalyste SPP : La mémoire dans la psychanalyse\nFrancis Eustac
 he : Professeur de neuropsychologie\, Directeur de l’équipe U1077\, Ins
 erm : Les mémoires dans leur contexte relationnel\nModératrice : Emmanue
 lle Chervet\, Psychanalyste SPP\n\n11h-11h30 Pause\n\n11h30- 13h Table ron
 de 2 : Oubli et refoulement\n\nDominique Bourdin\, Psychanalyste SPP : Él
 oge de l’oubli\nJacques Angelergues\, Psychanalyste\, SPP : L’amnésie
  infantile et avant\nJudith Rochfeld\, Professeure de droit\, Université 
 Paris I : Peut-on se faire oublier sur les réseaux ?\nKalyane Fejtö\, Ps
 ychanalyste SPP : L'oubli dans la dynamique transféro-contre-transférent
 ielle.\n\nModérateur : Denys Ribas\, psychanalyste SPP\n\n14h30-16h Table
  ronde 3 : Traces\, clivages\, trauma\n\nPr. Florence Askenazy\, Psychanal
 yste SPP\, Cheffe de Service du Service Universitaire de Psychiatrie de l
 ’enfant et de l’adolescent\, Nice : Nice 14-7-16 \; Témoignage Cliniq
 ue et Psychanalytique\nFrançoise Coblence\, Psychanalyste SPP : Le trauma
  transmis : un corps étranger ?\nAlain Gibeault\, Psychanalyste SPP : Tra
 umatisme et psychose\n\nModérateur : Paul Denis\, Psychanalyste SPP : Con
 struire le souvenir\n\n16h-16h30 Pause\n\n16h30-18h Table Ronde 4 : Souven
 irs et Oublis collectifs\nJean-Noël Jeanneney\, Professeur émérite des 
 Universités\, Historien : l’Histoire : entre la mémoire et l’oubli\n
 Littérature : Santiago Amigorena\, écrivain : le devoir d’oubli\nJacqu
 es André : Psychanalyste\, APF : une vie sans histoire\n\nModérateurs : 
 Jean-Louis Baldacci\, Psychanalyste SPP\, Laurent Danon-Boileau\, Psychana
 lyste SPP\n\nNous écrire :\n\nCécile Notté :  scientifique@spp.asso.fr
 \n\nTélécharger le flyer et l'argument\n\n﻿\nPropulsé par HelloAsso
ATTACH;FMTTYPE=image/jpeg:https://www.spp.asso.fr/wp-content/uploads/2020/
 06/carre_colloque-SPP_2020_visio.jpg
CATEGORIES:Colloques,Paris
LOCATION:Centre International de Conférences de Sorbonne Université\, Pat
 io 44\, 4 place Jussieu 55\, Paris\, 75005\, France
GEO:48.846276;2.356852
X-APPLE-STRUCTURED-LOCATION;VALUE=URI;X-ADDRESS=Patio 44\, 4 place Jussieu 
 55\, Paris\, 75005\, France;X-APPLE-RADIUS=100;X-TITLE=Centre Internationa
 l de Conférences de Sorbonne Université:geo:48.846276,2.356852
END:VEVENT
BEGIN:VTIMEZONE
TZID:Europe/Paris
X-LIC-LOCATION:Europe/Paris
BEGIN:STANDARD
DTSTART:20201025T020000
TZOFFSETFROM:+0200
TZOFFSETTO:+0100
TZNAME:CET
END:STANDARD
END:VTIMEZONE
END:VCALENDAR