
BEGIN:VCALENDAR
VERSION:2.0
PRODID:-//wp-events-plugin.com//7.2.3.1//EN
TZID:Europe/Paris
X-WR-TIMEZONE:Europe/Paris
BEGIN:VEVENT
UID:421@spp.asso.fr
DTSTART;TZID=Europe/Paris:20231118T084500
DTEND;TZID=Europe/Paris:20231118T170000
DTSTAMP:20231120T100049Z
URL:https://www.spp.asso.fr/events/colloque-de-lifagp-loriginalite-et-la-d
 iversite-du-psychodrame-dans-un-monde-en-profondes-mutations/
SUMMARY:Colloque de l'IFAGP - L’originalité et la diversité du psychodr
 ame dans un monde en profondes mutations
DESCRIPTION:
ATTACH;FMTTYPE=image/jpeg:https://www.spp.asso.fr/wp-content/uploads/2023/
 10/Colloque_IFAGP_2023.jpg
CATEGORIES:Colloques
LOCATION:Salle Notre-Dame-des-Champs\, 92bis boulevard du Montparnasse\, Pa
 ris\, 75014\, France
GEO:48.842705;2.326885
X-APPLE-STRUCTURED-LOCATION;VALUE=URI;X-ADDRESS=92bis boulevard du Montparn
 asse\, Paris\, 75014\, France;X-APPLE-RADIUS=100;X-TITLE=Salle Notre-Dame-
 des-Champs:geo:48.842705,2.326885
END:VEVENT
BEGIN:VTIMEZONE
TZID:Europe/Paris
X-LIC-LOCATION:Europe/Paris
BEGIN:STANDARD
DTSTART:20231029T020000
TZOFFSETFROM:+0200
TZOFFSETTO:+0100
TZNAME:CET
END:STANDARD
END:VTIMEZONE
END:VCALENDAR