
BEGIN:VCALENDAR
VERSION:2.0
PRODID:-//wp-events-plugin.com//7.2.3.1//EN
TZID:Europe/Paris
X-WR-TIMEZONE:Europe/Paris
BEGIN:VEVENT
UID:187@spp.asso.fr
DTSTART;TZID=Europe/Paris:20201128T090000
DTEND;TZID=Europe/Paris:20201128T180000
DTSTAMP:20201130T131223Z
URL:https://www.spp.asso.fr/events/colloque-etap-maltraitances-au-psychodr
 ame-28-novembre-2020/
SUMMARY:Colloque ETAP - Maltraitances au psychodrame\, 28 novembre 2020
DESCRIPTION:ETAP Formation\nMALTRAITANCES AU PSYCHODRAME\n23ème colloque s
 ur le psychodrame psychanalytique\n28 novembre 2020\n&nbsp\;\n\nFIAP Jean 
 Monnet\, Espace Bruxelles\n30 rue Cabanis\, 75014 Paris\nMétro Saint-Jacq
 ues\n\nTélécharger ici le programme et le bulletin d’inscription\nForm
 ation enregistrée sous le n° 11 75 489 86 75\n\n&nbsp\;\nArgument\nIl y 
 a maltraitance quand le fort abuse de sa force pour faire souffrir le faib
 le sans courir lui-même de risque.\n\nLe terme est le plus communément u
 tilisé lorsque la victime est un enfant\, et l’agresseur un adulte\, pr
 ofitant de sa force pour infliger coups\, tortures et parfois mort. L’en
 fant peut aussi être maltraité par d’autres enfants\, pour exercer des
  violences ou des menaces de violences pour rançonner\, exercer un chanta
 ge. La relation de violence peut encore s’inverser\, le tortionnaire ét
 ant l’enfant qui tyrannise un parent impuissant.\n\nUn autre cas met en 
 jeu les relations de couple. Le plus souvent un homme se conduit comme si 
 la femme était un bien personnel et la frappe pour la punir\, parfois la 
 tue.\n\nLe nombre d’hommes tués par une femme au terme de violences con
 jugales est cinq fois moindre. On peut observer la dissymétrie des motifs
 \, en général la femme tue l’homme pour s’en débarrasser\, l’homm
 e tue la femme pour la garder.\n\nUn troisième domaine de maltraitance co
 ncerne les relations de travail\, où un supérieur abuse de la situation 
 pour faire souffrir un subordonné par les multiples moyens qu’autorise 
 et semble parfois légitimer la vie de l’entreprise. L’auto-éliminati
 on de la victime par « burnout » ou dépression anxieuse peut alors adve
 nir.\n\nL’histoire d’une maltraitance montre que s’y développe des 
 « rôles » : le bourreau\, le justicier\, la victime. Et la situation s
 ’exaspère du masochisme de cette dernière. L’enfant maltraité croit
  que la vie est ainsi et souffre en silence \; la femme battue vient à pe
 nser qu’elle le mérite. Peuvent se créer apprentissage et transmission
  de la maltraitance.\n\nToutes ces situations peuvent\, avec précautions\
 , être mises en scène au psychodrame. L’objectif est d’abord de mett
 re en évidence le dialogue des rôles de tyran et de victime. Au-delà\, 
 car c’est bien de psychanalyse qu’il s’agit\, le travail se centrera
  sur le couple sadisme/masochisme et sur le narcissisme malmené.\nProgram
 me\n09h00 – 12h30\nModératrice : Brigitte Kammerer\n\nIntervenants :\n
 Olivier Callet\, Allocution de bienvenue\nIsaac Salem\, Présentation de l
 a journée\nChristophe Dejours\, La banalisation de la maltraitance et ses
  ressorts psychiques\nVassilis Kapsambelis\, Y a-t-il une maltraitance pro
 pre aux soins psychiques ?\n\n14h30-18h00\nModératrice : Fabienne de Lan
 lay\n\nIntervenants :\nAntoine Nastasi\, L’imposition du sens\nBernard T
 ouati\, Déliaison et répétition au psychodrame : la maltraitance et la
  mise à l’épreuve du cadre processuel\n\nINTERVENANTS\n\nOlivier Calle
 t\, Directeur général de l’association Les ailes déployées\nChristop
 he Dejours\, Psychiatre Psychanalyste Membre titulaire de l’APF\nBrigitt
 e Kammerer\, Psychologue clinicienne Psychanalyste Formatrice à ETAP\nVas
 silis Kapsambelis\, Psychiatre Psychanalyste Membre titulaire de la SPP\nF
 abienne de Lanlay\, Psychologue Psychanalyste membre de la SPP Formatrice 
 à ETAP\nAntoine Nastasi\, Psychanalyste Membre formateur de la SPRF\nIsaa
 c Salem\, Psychiatre Psychanalyste Membre titulaire formateur de la SPP Fo
 ndateur et formateur à ETAP\nBernard Touati\, Psychiatre Psychanalyste Me
 mbre de la SPP\n\n&nbsp\;
ATTACH;FMTTYPE=image/jpeg:https://www.spp.asso.fr/wp-content/uploads/2020/
 07/ETAP-Psychodrame-nov.2020_visuel.jpg
CATEGORIES:Colloques,Paris
LOCATION:FIAP Jean Monnet\, Espace Bruxelles\, 30 rue Cabanis\, Paris\, 750
 14\, France
GEO:48.830793;2.33841
X-APPLE-STRUCTURED-LOCATION;VALUE=URI;X-ADDRESS=30 rue Cabanis\, Paris\, 75
 014\, France;X-APPLE-RADIUS=100;X-TITLE=FIAP Jean Monnet\, Espace Bruxelle
 s:geo:48.830793,2.33841
END:VEVENT
BEGIN:VTIMEZONE
TZID:Europe/Paris
X-LIC-LOCATION:Europe/Paris
BEGIN:STANDARD
DTSTART:20201025T020000
TZOFFSETFROM:+0200
TZOFFSETTO:+0100
TZNAME:CET
END:STANDARD
END:VTIMEZONE
END:VCALENDAR