
BEGIN:VCALENDAR
VERSION:2.0
PRODID:-//wp-events-plugin.com//7.2.3.1//EN
TZID:Europe/Paris
X-WR-TIMEZONE:Europe/Paris
BEGIN:VEVENT
UID:175@spp.asso.fr
DTSTART;TZID=Europe/Paris:20200327T090000
DTEND;TZID=Europe/Paris:20200327T170000
DTSTAMP:20200421T031805Z
URL:https://www.spp.asso.fr/events/colloque-larchaique-dans-la-clinique-a-
 aix/
SUMMARY:Colloque «L'archaïque dans la clinique» à Aix ANNULÉ
DESCRIPTION:L’archaïque dans la clinique\nVendredi 27 mars 2020\n9h00 
 – 17h00\nMaison Méditerranéenne des Sciences de l’Homme\n5 Rue Chât
 eau de l’Horloge\, 13090 Aix-en Provence\n&nbsp\;\nArgument\nLes manife
 stations psychopathologiques rencontrées dans la clinique actuelle\, dont
  certaines échappent aux références nosographiques traditionnelles\, am
 ènent à considérer la dimension de l’archaïque en psychanalyse. Cett
 e dimension désigne notamment des formes premières d’identification et
  de symbolisation\, souvent ancrées dans le corps. Elle relève égalemen
 t de processus dépourvus de paroles et de représentations et contient la
  notion d’origine. Mais\, tout comme l’ensemble des formations de l’
 inconscient\, elle reste présente de tout temps chez le sujet. L’archa
 ïque s’intrique dans les processus transféro-contretransférentiels et
  se présente comme un arrière-plan qui favorise ou entrave des nouvelles
  formes de symbolisations. Au cours du colloque\, à travers des exposés 
 conceptuels et des ateliers cliniques\, sera abordé comment cette dimensi
 on du psychisme se manifeste dans les cures en individuel\, avec des enfan
 ts et avec des familles.familles.\n\n&nbsp\;\nPROGRAMME\n8h30 : Accueil d
 es participants\n\n09h00 : Présentation de la journée - Alberto Koniche
 ckis\nFil rouge : Philippe Robert\n\n09h30 : Anne Brun - La symbolisation
  de l'archaïque en séance\n10h00 : Discussion\n\n10h15 : Françoise Au
 bertel - Le travail de l'archaïque en TFP\, ou comment « patauger dans 
 le bêta »...\n10h45 : Discussion\n\n11h00 - 11h20 : Pause\n\n11h20 : 
 Vincent Estellon - L'archaïque dans les sexualités limites\n11h50 : Dis
 cussion\n\n12h05 : Discussion générale\n\n12h30 - 14h00 : Déjeuner li
 bre (possibilité de repas sur place)\n\n14h00 : Ateliers Cliniques Simu
 ltanés :\n\nL’inscription pour les ateliers se fera sur place\nAnne Boi
 sseuil (SEPEA) : Présentation à partir d’un cas d’enfant. Entre Toy 
 Story et le Roi Lion\, le processus de subjectivation d’un garçon « su
 rvivant »\nDiscutant : Cyrill Tosquellas\n\nCapucine Dumoulin (ADTFA) : P
 résentation à partir d’une thérapie familiale. Un nuage au milieu du 
 salon\nDiscutante : Geneviève Henric-Gras\nChristelle Ammirati (GECP) Pr
 ésentation à partir d’un cas d'adulte. L’archaïque sur le divan \; 
 en quête de figurations\nDiscutante : Patricia Lachaud\n\n16h15 : Conclu
 sion de la journée - Philippe Robert\n\n&nbsp\;\nINTERVENANTS\nChristell
 e Ammirati : Psychologue Clinicienne\, psychanalyste\, thérapeute familia
 le\, psychodramatiste.\n\nFrançoise Aubertel : Docteure en Psychologie Cl
 inique\, Présidente SFTFP\, SFPPG\, formatrice à l'ADSPF.\n\nAnne Boisse
 uil : Psychologue Clinicienne. Maitre de conférences Université de Nice\
 , Sophia Antipolis. Formation SEPEA.\n\nAnne Brun : Psychanalyste S.P.P.\,
  Professeure de Psychopathologie et Psychologie Clinique\, Directrice du C
 entre de Recherches en Psychopathologie et Psychologie Clinique (C.R.P.P.C
 .) Université Lyon II.\n\nCapucine Dumoulin : Psychologue Clinicienne. Th
 érapeute familiale\n\nVincent Estellon : Psychanalyste\, Professeur de Ps
 ychologie Clinique et Psychopathologie\, Directeur du Master Psychologie C
 linique et Psychopathologie\, Directeur du Doctorat de Psychologie Cliniqu
 e à l'Université Paul Valéry de Montpellier.\n\nAlberto Konicheckis : P
 sychanalyste S.P.P.\, Professeur émérite et membre du laboratoire PCPP d
 e l’Université Paris Descartes\, Président du GECP.\n\nPhilippe Robert
  : Psychanalyste SPP\, Professeur de Psychologie Clinique à Paris Descart
 es\, membre du laboratoire PCPP.\n\n&nbsp\;\n\nADTFA : www.adtfa.org\nGECP
  : www.gecp.fr\nSEPEA : www.sepea.fr\nPCPP : http://recherche.parisdescart
 es.fr/pcpp
ATTACH;FMTTYPE=image/jpeg:https://www.spp.asso.fr/wp-content/uploads/2020/
 01/Colloque_Larchaique_Aix_2020-300x255_report.png
CATEGORIES:Colloques
LOCATION:Maison Méditerranéenne des Sciences de l’Homme\, 5 Rue Châtea
 u de l’Horloge\, \, Aix-en Provence\, 13090\, France
GEO:43.529211;5.419175
X-APPLE-STRUCTURED-LOCATION;VALUE=URI;X-ADDRESS=5 Rue Château de l’Horlo
 ge\, \, Aix-en Provence\, 13090\, France;X-APPLE-RADIUS=100;X-TITLE=Maison
  Méditerranéenne des Sciences de l’Homme:geo:43.529211,5.419175
END:VEVENT
BEGIN:VTIMEZONE
TZID:Europe/Paris
X-LIC-LOCATION:Europe/Paris
BEGIN:STANDARD
DTSTART:20191027T020000
TZOFFSETFROM:+0200
TZOFFSETTO:+0100
TZNAME:CET
END:STANDARD
END:VTIMEZONE
END:VCALENDAR