
BEGIN:VCALENDAR
VERSION:2.0
PRODID:-//wp-events-plugin.com//7.2.3.1//EN
TZID:Europe/Paris
X-WR-TIMEZONE:Europe/Paris
BEGIN:VEVENT
UID:356@spp.asso.fr
DTSTART;TZID=Europe/Paris;VALUE=DATE:20230128
DTEND;TZID=Europe/Paris;VALUE=DATE:20230129
DTSTAMP:20230131T150341Z
URL:https://www.spp.asso.fr/events/colloque-le-corps-en-seance/
SUMMARY:Colloque "Le corps en séance"
DESCRIPTION:ORGANISÉ PAR L’UNIVERSITÉ SORBONNE PARIS NORD\, LABORATOI
 RE UTRPP\, L’UNIVERSITÉ PARIS CITÉ\,\nLABORATOIRES PCPP ET CRPMS ET 
 LES DÉBATS EN PSYCHANALYSE DE LA SOCIÉTÉ PSYCHANALYTIQUE DE PARIS\nC
 omité d’organisation :\nAline Cohen de Lara\, Anne Maupas\, Catherine 
 Matha\, Isabelle Gernet\, Philippe Givre\, Adam Prigent\nCentre de colloqu
 es - Auditorium 150\, Campus Condorcet\, Place du Front Populaire 93222 AU
 BERVILLIERS\nINSCRIPTION SUR ZOOM NON OBLIGATOIRE\n\nhttps://zoom.us/j/988
 04439616?pwd=UG9GLzhiSS9KUTdHVG45TFp1ZTJDQT09\n\nID de réunion : 988 0443
  9616\nCode secret : 022683\n[pdf-embedder url="https://www.spp.asso.fr/wp
 -content/uploads/2023/01/programme_colloque-corps-seance_2023.pdf" width="
 100%"]\n\n&nbsp\;\nColloque gratuit sur inscription par e-mail : colloquel
 ecorpsenseance@gmail.com
ATTACH;FMTTYPE=image/jpeg:https://www.spp.asso.fr/wp-content/uploads/2022/
 11/PROGRAMME_CORPS-EN-SEANCE_2023_ima.jpg
CATEGORIES:Colloques
LOCATION:Centre de colloques - Auditorium 150\, Campus Condorcet\, Place du
  Front Populaire\, Aubervilliers\, 93222\, France
X-APPLE-STRUCTURED-LOCATION;VALUE=URI;X-ADDRESS=Campus Condorcet\, Place du
  Front Populaire\, Aubervilliers\, 93222\, France;X-APPLE-RADIUS=100;X-TIT
 LE=Centre de colloques - Auditorium 150:geo:0,0
END:VEVENT
BEGIN:VTIMEZONE
TZID:Europe/Paris
X-LIC-LOCATION:Europe/Paris
BEGIN:STANDARD
DTSTART:20221030T020000
TZOFFSETFROM:+0200
TZOFFSETTO:+0100
TZNAME:CET
END:STANDARD
END:VTIMEZONE
END:VCALENDAR