
BEGIN:VCALENDAR
VERSION:2.0
PRODID:-//wp-events-plugin.com//7.2.3.1//EN
TZID:Europe/Paris
X-WR-TIMEZONE:Europe/Paris
BEGIN:VEVENT
UID:127@spp.asso.fr
DTSTART;TZID=Europe/Paris:20190704T083000
DTEND;TZID=Europe/Paris:20190705T173000
DTSTAMP:20190706T123702Z
URL:https://www.spp.asso.fr/events/colloque-psychanalyse-et-litterature-re
 gards-decrivais-sur-la-clinique-contemporaine/
SUMMARY:Colloque Psychanalyse et Littérature - Regards d’écrivains sur 
 la clinique contemporaine
DESCRIPTION:Colloque Psychanalyse et Littérature\nRegards d’écrivains s
 ur la clinique contemporaine\n4 et 5 juillet 2019\, Toulouse\nAmphi 2\nMai
 son des solidarités\nUniversité Toulouse Jean Jaurès\nLaboratoire LCPI\
 n\n&nbsp\;\nArgument\nLorsque S. Freud définit\, en 1923\, la psychanalys
 e comme un « procédé pour l’investigation des processus animiques » 
 qui ne peuvent pas être connus autrement\, il ne précise pas si le « pr
 océdé » s’applique préférentiellement à la clinique et le présent
 e comme utilisable dans d’autres situations\, y compris l’analyse des 
 textes littéraires et les biographies. La psychanalyse dite « appliqué
 e » provient ainsi de ce que l’emploi de notions psychanalytiques s’
 exerce à partir\, non pas d’une cure analytique\, mais de la lecture d
 ’une œuvre\, bien souvent éclairée par des éléments biographiques.
 \n\nEn fait cette méthode – de psychanalyse appliquée – décrit auta
 nt les mouvements psychiques de l’auteur de l’œuvre que ceux de celui
  (psychanalyste) qui l’explore. En 1969\, A. Green souligne que la lectu
 re du psychanalyste permet d’avancer l’existence d’une « épistém
 ologie subjective » commune à la pratique du lecteur et à la pratique 
 analytique. Dans sa formule lumineuse\, il écrit alors\, « en matière d
 e critique psychanalytique\, l’analyste est l’analysé du texte » (A.
  Green\, La déliaison\, Paris\, Belles Lettres\, 1992\, p. 57).\n\nCe co
 lloque cherchera à illustrer combien la pratique du psychologue clinicien
  et celle du psychanalyste s’enrichissent d’une réflexion métapsych
 ologique sur les œuvres d’écrivains. Les textes littéraires sont com
 plémentaires à ceux scientifiques\, nosologiques ou métapsychologiques
  afin de saisir les nuances\, gouffres et paradoxes de la psyché humaine
  et de ses relations intersubjectives. Les regards des écrivains éclair
 ent avec une grande sensibilité et acuité les caractères et singularit
 és d’une clinique psychologique y compris la plus contemporaine.\n\nCom
 ité scientifique\n\nPr Gérard PIRLOT\nKathleen BEUVELET\nDelphine COLLIN
  RAMBEAUD\nNaomi RIVET\nSylvie BOURDET LOUBERE\nAnne PÉZET\nLaure ISUS\n\
 n&nbsp\;\nJEUDI 4 JUILLET\n8h30 : Accueil des participants\n8h45 : Alloc
 ution du Pr M-C. Jaillet\, VP Recherche\, UT2J\nApport de l’œuvre de Ri
 mbaud à la psychopathologie contemporaine\nPrésidence de séance : Chris
 tiane Joubert\, professeur\, UT2J\n9h00 : Pr Gérard Pirlot\, Psychanalys
 te SPP\, Pr de Psychopathologie Psychanalytique\, UT6J\n« Deuil\, absence
  et polyphonie des voix chez Rimbaud »\n\n9h45 : Pr Henri Sztulman\, Psy
 chanalyste SPP\, Psychiatre\, Pr Émérite\, UT6J\n« Rimbaud\, l’imposs
 ible amour »\n\nPause\n\n10h45 : Pr Maurice Corcos\, Psychanalyste\, Pr 
 de Psychiatrie\, Université Paris VI\n« Georges Perec : Le vide mode d
 ’emploi... »\n\nPause déjeuner\nDes liens entre deuil\, mélancolie\, 
 passivité et activité d’écriture\nPrésidence de séance : Anne Pezet
 \, Laure Isus\, doctorantes\n14H00 : Pr Alejandro Rojas-Urrego\, Psychana
 lyste SPPsa\, Pr de Psychiatrie\, Bogotá\, Colombie\n« La crainte de l
 ’effondrement chez Julio Cortazar »\n14h45 : Pr Anne-Marie Smith-Di Bi
 asio\, PhD\, HDR\, Pr de Littérature\, IC Paris\n« L’ombilic du texte 
 : Amos Oz\, Virginia Woolf \; écrire pour éclaircir la mélancolie mat
 ernelle »\n\nPause\n\n16h00 : Pr Bernard Chouvier\, Psychanalyste\, Pr 
 Émérite de Psychologie Clinique\, Lyon II\n« Une écriture de soi aux b
 ordures improbables : Fernando Pessoa »\n16h45 : Pr Vincent Estellon\, P
 sychanalyste\, Pr de Psychologie Clinique\, Paul Valéry\, Montpellier\n«
  Une séance avec Lady L »\nVENDREDI 5 JUILLET\nLes identifications incon
 scientes éclairées par la littérature\nPrésidence de séance : David V
 avassori\, maître de conférences-HDR\, UT2J\n9H00 : Michel Schneider\, 
 Psychanalyste\, écrivain\n« Boris Pasternak\, la musique\, pour finir. 
 »\n\n9H45 : Sylvie Bourdet-Loubère\, Psychologue Clinicienne\, MCF-HDR\
 , UT2J\n« Comment et pourquoi la lecture de Proust peut nous aider dans l
 a pratique de la psychothérapie analytique ? »\n\nPause\n\n11H00 : Pr 
 Florian Houssier\, Psychanalyste\, Pr. de Psychologie Clinique\, Paris XI
 II\n« Un conte cruel : désaccord pédagogique entre Freud et sa fille »
 \n\nPause Déjeuner\nLe sexuel infantile au regard de l’activité litté
 raire\nPrésidence de séance : Kathleen Beuvelet\, Naomi Rivet\, doctoran
 tes\n14H00 : Kati Varga\, psychanalyste SPP\n« Du narcissisme à la dé
 réliction : Philip Roth »\n14h45 : Anne-Valérie Mazoyer\, psychologu
 e clinicienne\, MCF-HDR\, UT2J\n« Le féminin s’écri(e)t-il ? Sensuali
 té et sensorialité dans l’œuvre de Toni Morrison »\n\nPause\n\n16H0
 0 : Florent Poupart\, Psychologue Clinicien\, MCF-HDR\, UT6J\n« Le rêve
  rate d’Alice : Lewis Carroll au pays de la perversion »\n16H45 : Ré
 my Puyuelo\, Pédopsychiatre\, Psychanalyste\, Membre de la SEPEA\, Rédac
 teur en chef de la revue Empan.\n« Niki de Saint Phalle “Mon secret”.
 \n\n&nbsp\;\n\ntélécharger le programme et ls modalités d'inscription
ATTACH;FMTTYPE=image/jpeg:https://www.spp.asso.fr/wp-content/uploads/2019/
 06/Visuel_Psychanalyse_et_Littérature_Toulouse_2019.jpg
CATEGORIES:Colloques,Conférences,Province
LOCATION:Maison des solidarités\, Université Toulouse Jean Jaurès\, Toul
 ouse\, 31058\, France
GEO:43.5795225;1.4032247000000098
X-APPLE-STRUCTURED-LOCATION;VALUE=URI;X-ADDRESS=Université Toulouse Jean J
 aurès\, Toulouse\, 31058\, France;X-APPLE-RADIUS=100;X-TITLE=Maison des s
 olidarités:geo:43.5795225,1.4032247000000098
END:VEVENT
BEGIN:VTIMEZONE
TZID:Europe/Paris
X-LIC-LOCATION:Europe/Paris
BEGIN:DAYLIGHT
DTSTART:20190331T030000
TZOFFSETFROM:+0100
TZOFFSETTO:+0200
TZNAME:CEST
END:DAYLIGHT
END:VTIMEZONE
END:VCALENDAR