
BEGIN:VCALENDAR
VERSION:2.0
PRODID:-//wp-events-plugin.com//7.2.3.1//EN
TZID:Europe/Paris
X-WR-TIMEZONE:Europe/Paris
BEGIN:VEVENT
UID:293@spp.asso.fr
DTSTART;TZID=Europe/Paris:20221008T093000
DTEND;TZID=Europe/Paris:20221008T183000
DTSTAMP:20221010T121225Z
URL:https://www.spp.asso.fr/events/colloque-psyche-art-laisser-sa-trace-ar
 t-rupestre-art-brut/
SUMMARY:Colloque Psyché & Art — Laisser sa trace : Art rupestre\, Art br
 ut
DESCRIPTION:[pdf-embedder url="https://www.spp.asso.fr/wp-content/uploads/2
 022/06/programme-colloque-8-10-2022.pdf" title="programme colloque 8-10-20
 22" width="100%"]\n\nRenseignements : www.psyche-art.com\nContact : rshara
 rapsycheart@gmail.com
ATTACH;FMTTYPE=image/jpeg:https://www.spp.asso.fr/wp-content/uploads/2022/
 06/programme-colloque-psyche-art_8-10-2022.jpg
CATEGORIES:Colloques
LOCATION:INALCO : Institut National des Langues et Civilisations Orientales
 \, 65 rue des Grands-Moulins\, Paris \, 75013\, France
GEO:48.82712;2.376019
X-APPLE-STRUCTURED-LOCATION;VALUE=URI;X-ADDRESS=65 rue des Grands-Moulins\,
  Paris \, 75013\, France;X-APPLE-RADIUS=100;X-TITLE=INALCO : Institut Nati
 onal des Langues et Civilisations Orientales:geo:48.82712,2.376019
END:VEVENT
BEGIN:VTIMEZONE
TZID:Europe/Paris
X-LIC-LOCATION:Europe/Paris
BEGIN:DAYLIGHT
DTSTART:20220327T030000
TZOFFSETFROM:+0100
TZOFFSETTO:+0200
TZNAME:CEST
END:DAYLIGHT
END:VTIMEZONE
END:VCALENDAR