
BEGIN:VCALENDAR
VERSION:2.0
PRODID:-//wp-events-plugin.com//7.2.3.1//EN
TZID:Europe/Paris
X-WR-TIMEZONE:Europe/Paris
BEGIN:VEVENT
UID:163@spp.asso.fr
DTSTART;TZID=Europe/Paris:20200125T093000
DTEND;TZID=Europe/Paris:20200125T180000
DTSTAMP:20200126T172516Z
URL:https://www.spp.asso.fr/events/colloque-psyche-et-art-les-enfants-fant
 omes/
SUMMARY:Colloque Psyché et art : Les enfants fantômes
DESCRIPTION:Colloque Psyché et art\n« Les Enfants fantômes : Quelle co
 nstruction du monde interne est possible pour ces enfants sans état civil
  ? »\nOrganisation : Rajah Sharara\nSamedi 25 Janvier 2020 - 9h30 à 18
 h\n\nINALCO : Institut National des Langues et Civilisations Orientales\n6
 5 rue des Grands-Moulins - Paris 75013\n&nbsp\;\n\nLigne 14 : station Fran
 çois Mitterrand\nBus 62 : arrêt Mann / Bus 89 : arrêt Avenue de France 
 / Bus 64 : arrêt Bibliothéque - Chevaleret\n\n&nbsp\;\nArgument\n« 230 
 millions d’enfants dans le monde ne seraient pas enregistrés\, c’est 
 une estimation\, ils ne sont pas répertoriés\, ils sont appelés des « 
 enfants fantômes »\, des enfants invisibles\, inconnus des services admi
 nistratifs dans leur propre pays\, sans identité légale\, ils n’existe
 nt pas officiellement\, ils sont privés de leurs droits fondamentaux. San
 s citoyenneté\, ils n’ont pas accès à l’école\, aux soins et à la
  justice\, ils sont exposés à tous les abus et condamnés à tous les da
 ngers » Documentaire « Enfants fantômes\, un défi pour l’Afrique » 
 de Clément Alline\, la compagnie des Taxibrousse\, Michel Welterlin.\n\nL
 ’expression « les enfants fantômes »\, issue de la réalité de milli
 ons d’enfants à travers le monde\, et regroupant des situations diverse
 s\, éveille de nombreuses interrogations\, fantasmes et angoisses. Le par
 adoxe de cette expression repose sur le fait qu’elle désigne et nie l
 ’identité de ces enfants dans un même mouvement\, tout en révélant l
 a violence qui leur est faite. »\n\nA partir du fantastique et de motifs 
 littéraires et cinématographiques de la représentation du fantôme\, no
 us envisagerons sous la forme de variations les fantômes de l’enfance 
 à l’adolescence. Le fantôme erre dans un non-lieu\, il est l’intrus 
 qui fait irruption et signe la défaillance de l’inscription dans le sym
 bolique.\n\nDes effets de retour aux identifications rêvées\, comment ce
 tte question de l’enfant fantôme peut-elle être travaillée avec les a
 dolescents en période de crise identitaire dans les moments de vacillemen
 ts\, d’irruption du doute et comment ce théâtre s’invite en séance 
 dans la dépersonnalisation et l’hallucinatoire avec la chimère.\n\n&nb
 sp\;\nProgramme\n9h00 Accueil des participants\n9h30 - 11h30\nPrésident 
 de la matinée :\n\n​Jean-François GOUIN : Psychanalyste. Membre de l
 a Société Psychanalytique de Paris (SPP). Psychodramatiste.\n\nMadame La
 urence DUMONT : Députée du Calvados\, co-présidente de la mission d’
 information de la commission des affaires étrangères sur les enfants non
  enregistrés à l’état civil.\n\nPr Bernard GOLSE : Pédopsychiatre-p
 sychanalyste (APF)\, Professeur émérite de psychiatre de l’enfant et d
 e l’adolescent à l’université Paris Descartes. Président de Pikler
  Loczy et de l’AEPEA.\n\n« Comment se sentir être quand on n’existe 
 pour personne ? »\n\nÉchanges avec la salle\n\nDocumentaire « Les Enfan
 ts fantômes\, un défi pour l’Afrique »\, Michel WELTERLIN\, producte
 ur la compagnie Taxibrousse\, Clément ALLINE\, réalisateur.\n\n 11h30 
 -11h45 Pause\n\n 11h45 - 13h00\n\nBéatrice ITHIER : Psychanalyste\, me
 mbre de la Société Psychanalytique de Paris (SPP) et de la Société Psy
 chanalytique Italienne (SPI)\, Société Européenne pour la Psychanalyse 
 de l’Enfant et de l’Adolescent (SEPEA):\n« Les bras des chimères »\
 n\nPr Sesto Marcello PASSONE : Psychanalyste\, Membre de la Société Psy
 chanalytique de Paris (SPP)\, Société Européenne pour la Psychanalyse d
 e l’Enfant et de l’Adolescent (SEPEA) : Discutant.\n\nÉchanges avec l
 a salle\n\n13h00 -14h15 Déjeuner - Buffet\n\n 14h15 - 15h30\n\nPréside
 nt de l'après-midi :\n\nJean-François GOUIN : Psychanalyste. Membre de 
 la Société Psychanalytique de Paris (SPP). Psychodramatiste.\n\nMaria Te
 resa FLORES : Psychiatre et Psychanalyste de l’enfant\, de l’adolesce
 nt et de l’adulte : « L’épanouissement de l’identité\, cachée s
 ous le manteau d’enfant fantôme : Le processus créatif en séance »\n
 Valli KOHON : Psychanalyste et Psychanalyste de l’enfant\, membre de l
 a Société Psychanalytique Britannique : Discutante.\n\nÉchanges avec l
 a salle\n\n15h30 -15h45 Pause\n\n15h45 - 17h00 : « Les fantômes de l
 ’enfance à l’adolescence :\ndes identifications rêvées aux effets d
 e retour ! » :\n\nAnne-Claire CHAROUSSET : Psychologue clinicienne\, psy
 chodramatiste et scénothérapeute.\n\nJessica VILARROIG : Professeure de
  lettres et soins-études\, scénothérapeute \, Société Française d’
 expression scénique (SFES )\n\nÉchanges avec la salle\n17h15 -18h00​\n
 Extraits de textes sur les enfants fantômes :\n\n\nAriane BEGOIN : Comé
 dienne\, traductrice\, pédagogue.\n\nAlexandre ZLOTO : Comédien et mett
 eur en scène formé à l’école du Théâtre National de Strasbourg (gr
 oupe 31).\n\n« SOULFUL SOUNDS » : Sheilah CUFFY(voix) et Vincent AUBAG
 UE (guitare) avec la chorale INSIDE VOICES PARIS.\n\nClôture de la jour
 née\n\n17h00 -17h15 : Marie-Jo BRANCHE : Présidente de l’association
  Amitié Pommiers et Baobabs\n\nTÉLÉCHARGER LE BULLETIN D'INSCRIPTION\n\
 nTÉLÉCHARGER LE PROGRAMME\n\nTÉLÉCHARGER LE BULLETIN D'ADHÉSION\n\nPU
 BLICATIONS DES INTERVENANTS\n\n&nbsp\;\nIntervenants\nClément ALLINE : R
 éalisateur Vincente AUBAGUE : Guitariste\nAriane BEGOIN : Comédienne\, t
 raductrice\, pédagogue et co-fondatrice du TAFTHEATRE avec Alexandre Zlot
 o.\nMarie-Jo BRANCHE : Présidente de l’association Amitié Pommiers et 
 Baobabs\nAnne-Claire CHAROUSSET : Psychologue clinicienne\, psychodramatis
 te et scénothérapeute.\nSheilah CUFFY : Chanteuse et comédienne\, carri
 ère durant laquelle elle travaille aux côtés d’artistes britanniques 
 et américains.\nLaurence DUMONT : Députée du Calvados\, co-présidente 
 de la mission d’information de la Commission des Affaires étrangères s
 ur les enfants non enregistrés à l’état civil\, membre à l’Assembl
 ée parlementaire de la Francophonie (A.P.F.) et à l’Union Interparleme
 ntaire (U.I.P.). Maria\nTeresa FLORES : Psychiatre et Psychanalyste de l
 ’enfant\, de l’adolescent et de l’adulte. Membre titulaire et didact
 icienne du Nucleus Portugais de Psychanalyse (Groupe d’Etudes de l’Ass
 ociation Psychanalytique Internationale (NPP-GE de l’API).)\nBernard GOL
 SE : Pédopsychiatre- psychanalyste (APF)\, Professeur émérite de psychi
 atre de l’enfant et de l’adolescent à l’université Paris Descartes
 . Président de la Cippa.\nJean-François GOUIN : Psychanalyste. Membre de
  la Société Psychanalytique de Paris (SPP). Psychodramatiste. Membre du 
 comité de rédaction de la Revue Française de Psychanalyse.\nBéatrice I
 THIER : Psychanalyste\, membre de la Société Psychanalytique de Paris (S
 PP) et de la Société Psychanalytique Italienne (SPI)\, Société Europé
 enne pour la Psychanalyse de l’Enfant et de l’Adolescent (SEPEA). Full
  Member International Psycho-Analysis (IPA)\, reconnue Psychanalyste de l
 ’enfant\, de l’adolescent et de l’adulte.\nValli KOHON : Psychanalys
 te et Psychanalyste de l’enfant\, membre de la Société Psychanalytique
  Britannique. Formée à la Tavistock Clinic.\nSesto Marcello PASSONE : Ps
 ychanalyste\, Membre de la Société Psychanalytique de Paris (SPP)\, anci
 en président de la Société Européenne pour la Psychanalyse de l’Enfa
 nt et de l’Adolescent (SEPEA).\nRajah SHARARA : Psychologue clinicienne\
 , psychothérapeute. Fondatrice et présidente de l’association Psyché 
 &amp\; Art.\n\n&nbsp\;
ATTACH;FMTTYPE=image/jpeg:https://www.spp.asso.fr/wp-content/uploads/2019/
 11/Visuel_Colloque_Psyche_et_art.jpg
CATEGORIES:Colloques,Paris
LOCATION:INALCO : Institut National des Langues et Civilisations Orientales
 \, 65 rue des Grands-Moulins\, Paris \, 75013\, France
GEO:48.82712;2.376019
X-APPLE-STRUCTURED-LOCATION;VALUE=URI;X-ADDRESS=65 rue des Grands-Moulins\,
  Paris \, 75013\, France;X-APPLE-RADIUS=100;X-TITLE=INALCO : Institut Nati
 onal des Langues et Civilisations Orientales:geo:48.82712,2.376019
END:VEVENT
BEGIN:VTIMEZONE
TZID:Europe/Paris
X-LIC-LOCATION:Europe/Paris
BEGIN:STANDARD
DTSTART:20191027T020000
TZOFFSETFROM:+0200
TZOFFSETTO:+0100
TZNAME:CET
END:STANDARD
END:VTIMEZONE
END:VCALENDAR