
BEGIN:VCALENDAR
VERSION:2.0
PRODID:-//wp-events-plugin.com//7.2.3.1//EN
TZID:Europe/Paris
X-WR-TIMEZONE:Europe/Paris
BEGIN:VEVENT
UID:191@spp.asso.fr
DTSTART;TZID=Europe/Paris;VALUE=DATE:20201003
DTEND;TZID=Europe/Paris;VALUE=DATE:20201005
DTSTAMP:20200909T165214Z
URL:https://www.spp.asso.fr/events/colloque-rene-diatkine-a-deauville/
SUMMARY:Colloque René Diatkine à Deauville
DESCRIPTION:Il nous semble que l’envie\, comme l’amour et la haine\, es
 t un mouvement psychique complexe\, un sentiment\, et non un mécanisme é
 lémentaire. Devons nous et pouvons nous approcher\, sur les plans de la c
 linique et de la théorie\, cette notion d’envie dans la cure psychanaly
 tique ?
ATTACH;FMTTYPE=image/jpeg:https://www.spp.asso.fr/wp-content/uploads/2020/
 09/Image-mise-en-avant-Deauville-2.png
CATEGORIES:Colloques
LOCATION:Hôtel Royal Lucien Barrière\, Rue de la République de Colombie\
 , Deauville\, France
GEO:49.3578524;0.06811029999994389
X-APPLE-STRUCTURED-LOCATION;VALUE=URI;X-ADDRESS=Rue de la République de Co
 lombie\, Deauville\, France;X-APPLE-RADIUS=100;X-TITLE=Hôtel Royal Lucien
  Barrière:geo:49.3578524,0.06811029999994389
END:VEVENT
BEGIN:VTIMEZONE
TZID:Europe/Paris
X-LIC-LOCATION:Europe/Paris
BEGIN:DAYLIGHT
DTSTART:20200329T030000
TZOFFSETFROM:+0100
TZOFFSETTO:+0200
TZNAME:CEST
END:DAYLIGHT
END:VTIMEZONE
END:VCALENDAR