
BEGIN:VCALENDAR
VERSION:2.0
PRODID:-//wp-events-plugin.com//7.2.3.1//EN
TZID:Europe/Paris
X-WR-TIMEZONE:Europe/Paris
BEGIN:VEVENT
UID:139@spp.asso.fr
DTSTART;TZID=Europe/Paris:20191123T090000
DTEND;TZID=Europe/Paris:20191123T180000
DTSTAMP:20191123T105810Z
URL:https://www.spp.asso.fr/events/colloque-spp-michel-de-muzan-psychanaly
 ste-et-eveiller/
SUMMARY:Colloque SPP - Michel de M'Uzan : psychanalyste et éveilleur
DESCRIPTION:Programme - bulletin d'inscription\n\nArgument\n\nAffiche
ATTACH;FMTTYPE=image/jpeg:https://www.spp.asso.fr/wp-content/uploads/2019/
 07/Colloque_De_Muzan_nov_2019_visuel.jpg
CATEGORIES:Colloques,Paris
LOCATION:Asiem\, 6 rue Albert de Lapparent\, Paris 7ème\, France
X-APPLE-STRUCTURED-LOCATION;VALUE=URI;X-ADDRESS=6 rue Albert de Lapparent\,
  Paris 7ème\, France;X-APPLE-RADIUS=100;X-TITLE=Asiem:geo:0,0
END:VEVENT
BEGIN:VTIMEZONE
TZID:Europe/Paris
X-LIC-LOCATION:Europe/Paris
BEGIN:STANDARD
DTSTART:20191027T020000
TZOFFSETFROM:+0200
TZOFFSETTO:+0100
TZNAME:CET
END:STANDARD
END:VTIMEZONE
END:VCALENDAR