
BEGIN:VCALENDAR
VERSION:2.0
PRODID:-//wp-events-plugin.com//7.2.3.1//EN
TZID:Europe/Paris
X-WR-TIMEZONE:Europe/Paris
BEGIN:VEVENT
UID:461@spp.asso.fr
DTSTART;TZID=Europe/Paris;VALUE=DATE:20241011
DTEND;TZID=Europe/Paris;VALUE=DATE:20241013
DTSTAMP:20241015T152037Z
URL:https://www.spp.asso.fr/events/colloque-sulisom-les-transferts/
SUMMARY:Colloque SuLiSom : LES TRANSFERTS
DESCRIPTION:Renseignements et inscription sur le site du SiLuSom : sulisom-
 colloques.fr\n\n[pdf-embedder url="https://www.spp.asso.fr/wp-content/uplo
 ads/2024/04/Depliant2024-web-page-a-page.pdf" title="SuLiSom Les Transfert
 s" width="100%"]
ATTACH;FMTTYPE=image/jpeg:https://www.spp.asso.fr/wp-content/uploads/2024/
 04/Sulisom_2024_ima-e1726045999704.jpg
CATEGORIES:Colloques
LOCATION:Palais Universitaire\, 9 place de l’université\, Starsbourg\,  
 67000\, France
X-APPLE-STRUCTURED-LOCATION;VALUE=URI;X-ADDRESS=9 place de l’université\
 , Starsbourg\,  67000\, France;X-APPLE-RADIUS=100;X-TITLE=Palais Universit
 aire:geo:0,0
END:VEVENT
BEGIN:VTIMEZONE
TZID:Europe/Paris
X-LIC-LOCATION:Europe/Paris
BEGIN:DAYLIGHT
DTSTART:20240331T030000
TZOFFSETFROM:+0100
TZOFFSETTO:+0200
TZNAME:CEST
END:DAYLIGHT
END:VTIMEZONE
END:VCALENDAR