
BEGIN:VCALENDAR
VERSION:2.0
PRODID:-//wp-events-plugin.com//7.2.3.1//EN
TZID:Europe/Paris
X-WR-TIMEZONE:Europe/Paris
BEGIN:VEVENT
UID:20@spp.asso.fr
DTSTART;TZID=Europe/Paris:20180627T210000
DTEND;TZID=Europe/Paris:20180627T230000
DTSTAMP:20180618T221224Z
URL:https://www.spp.asso.fr/events/conference-du-mercredi-linterpretation-
 dans-la-psychanalyse-denfant-de-melanie-klein-a-aujourdhui/
SUMMARY:Conférence du mercredi : L'interprétation dans la psychanalyse d'
 enfant de Melanie Klein à aujourd'hui
DESCRIPTION:Plus d'information
CATEGORIES:Conférences,Cycles de Conférences,Paris
LOCATION:SPP\, 21 rue Daviel\, Paris\, 75014\, France
GEO:48.8279349;2.344722999999931
X-APPLE-STRUCTURED-LOCATION;VALUE=URI;X-ADDRESS=21 rue Daviel\, Paris\, 750
 14\, France;X-APPLE-RADIUS=100;X-TITLE=SPP:geo:48.8279349,2.34472299999993
 1
END:VEVENT
BEGIN:VTIMEZONE
TZID:Europe/Paris
X-LIC-LOCATION:Europe/Paris
BEGIN:DAYLIGHT
DTSTART:20180325T030000
TZOFFSETFROM:+0100
TZOFFSETTO:+0200
TZNAME:CEST
END:DAYLIGHT
END:VTIMEZONE
END:VCALENDAR