
BEGIN:VCALENDAR
VERSION:2.0
PRODID:-//wp-events-plugin.com//7.2.3.1//EN
TZID:Europe/Paris
X-WR-TIMEZONE:Europe/Paris
BEGIN:VEVENT
UID:195@spp.asso.fr
DTSTART;TZID=Europe/Paris:20210327T000000
DTEND;TZID=Europe/Paris:20210327T000000
DTSTAMP:20210318T062558Z
URL:https://www.spp.asso.fr/events/conference-penser-la-fin-du-monde/
SUMMARY:Conférence « Penser la fin du monde »
DESCRIPTION:Avec Martine GIRARD\, Marc BABONNEAU\, Bertrand VIDAL
ATTACH;FMTTYPE=image/jpeg:https://www.spp.asso.fr/wp-content/uploads/2021/
 02/Visuel_Groupe_toulousain_2021.png
LOCATION:Espace Duranti – Salle Osète\, 6 rue du Lieutenant-Colonel Pél
 issier\, Toulouse\, 31000\, France
GEO:43.603417;1.446727
X-APPLE-STRUCTURED-LOCATION;VALUE=URI;X-ADDRESS=6 rue du Lieutenant-Colonel
  Pélissier\, Toulouse\, 31000\, France;X-APPLE-RADIUS=100;X-TITLE=Espace 
 Duranti – Salle Osète:geo:43.603417,1.446727
END:VEVENT
BEGIN:VTIMEZONE
TZID:Europe/Paris
X-LIC-LOCATION:Europe/Paris
BEGIN:STANDARD
DTSTART:20201025T020000
TZOFFSETFROM:+0200
TZOFFSETTO:+0100
TZNAME:CET
END:STANDARD
END:VTIMEZONE
END:VCALENDAR