
BEGIN:VCALENDAR
VERSION:2.0
PRODID:-//wp-events-plugin.com//7.2.3.1//EN
TZID:Europe/Paris
X-WR-TIMEZONE:Europe/Paris
BEGIN:VEVENT
UID:134@spp.asso.fr
DTSTART;TZID=Europe/Paris:20201012T210000
DTEND;TZID=Europe/Paris:20201012T223000
DTSTAMP:20210624T131805Z
URL:https://www.spp.asso.fr/events/conferences-sainte-anne-2018-2020/
SUMMARY:Conférences à Sainte-Anne\, Paris\, 2020-2021
DESCRIPTION:Conférences Sainte-Anne 2019-2020 : CLINIQUE PSYCHIATRIQUE ET 
 PSYCHANALYSE
ATTACH;FMTTYPE=image/jpeg:https://www.spp.asso.fr/wp-content/uploads/2019/
 07/carre_StAnne-2020-2021_bleu.jpg
CATEGORIES:Conférences d'introduction à la psychanalyse
LOCATION:Centre Hospitalier Sainte-Anne - Amphithéâtre Deniker\, 1 rue Ca
 banis\, Paris\, 75014\, France
GEO:48.8301764;2.340353700000037
X-APPLE-STRUCTURED-LOCATION;VALUE=URI;X-ADDRESS=1 rue Cabanis\, Paris\, 750
 14\, France;X-APPLE-RADIUS=100;X-TITLE=Centre Hospitalier Sainte-Anne - Am
 phithéâtre Deniker:geo:48.8301764,2.340353700000037
END:VEVENT
BEGIN:VTIMEZONE
TZID:Europe/Paris
X-LIC-LOCATION:Europe/Paris
BEGIN:DAYLIGHT
DTSTART:20200329T030000
TZOFFSETFROM:+0100
TZOFFSETTO:+0200
TZNAME:CEST
END:DAYLIGHT
END:VTIMEZONE
END:VCALENDAR