
BEGIN:VCALENDAR
VERSION:2.0
PRODID:-//wp-events-plugin.com//7.2.3.1//EN
TZID:Europe/Paris
X-WR-TIMEZONE:Europe/Paris
BEGIN:VEVENT
UID:13@spp.asso.fr
DTSTART;TZID=Europe/Paris:20180517T200000
DTEND;TZID=Europe/Paris:20180517T213000
DTSTAMP:20180406T153407Z
URL:https://www.spp.asso.fr/events/contextualiser-la-psychanalyse-donner-r
 ecevoir-et-rendre-la-psychanalyse-a-la-lumiere-de-lanthropologie/
SUMMARY:Contextualiser la psychanalyse: donner\, recevoir et rendre\, la ps
 ychanalyse à la lumière de l’anthropologie
DESCRIPTION:CYCLE DE CONFERENCES A MONTPELLIER\n20 heures – Entrée libre
 \nRéflexion et débats à partir du travail clinique et théorique apport
 é par des Psychanalystes de la Société Psychanalytique de Paris\n——
 —\nJeudi 17 mai 2018 \nClaire Rémy\nMédecin\, Anthropologue\, Psycha
 nalyste\, Membre de la Société Belge de Psychanalyse. \n«Contextualise
 r la psychanalyse: donner\, recevoir et rendre\, la psychanalyse à la lum
 ière de l’anthropologie»\n——–\nHôpital La Colombière\nService 
 Universitaire de Psychiatrie Adulte (SUPA) du Pr CAPDEVIELLE\n– Salle r
 éunion – 1er étage –
CATEGORIES:Conférences,Cycles de Conférences,Groupe
 Méditerranéen,Province
LOCATION:Hôpital La Colombière - Service Universitaire de Psychiatrie Adu
 lte (SUPA) du Pr CAPDEVIELLE - Montpellier\, 39 av Charles Flahault\, Mont
 pellier\, 34000\, Groupe Méditerranéen\, France
GEO:43.6278011;3.858086500000013
X-APPLE-STRUCTURED-LOCATION;VALUE=URI;X-ADDRESS=39 av Charles Flahault\, Mo
 ntpellier\, 34000\, Groupe Méditerranéen\, France;X-APPLE-RADIUS=100;X-T
 ITLE=Hôpital La Colombière - Service Universitaire de Psychiatrie Adulte
  (SUPA) du Pr CAPDEVIELLE - Montpellier:geo:43.6278011,3.858086500000013
END:VEVENT
BEGIN:VTIMEZONE
TZID:Europe/Paris
X-LIC-LOCATION:Europe/Paris
BEGIN:DAYLIGHT
DTSTART:20180325T030000
TZOFFSETFROM:+0100
TZOFFSETTO:+0200
TZNAME:CEST
END:DAYLIGHT
END:VTIMEZONE
END:VCALENDAR