
BEGIN:VCALENDAR
VERSION:2.0
PRODID:-//wp-events-plugin.com//7.2.3.1//EN
TZID:Europe/Paris
X-WR-TIMEZONE:Europe/Paris
BEGIN:VEVENT
UID:355@spp.asso.fr
DTSTART;TZID=Europe/Paris;VALUE=DATE:20230518
DTEND;TZID=Europe/Paris;VALUE=DATE:20230522
DTSTAMP:20230522T133606Z
URL:https://www.spp.asso.fr/events/cplf-2023-affect-theorie/
SUMMARY:CPLF 2023 : AFFECT\, THÉORIE ...
DESCRIPTION:83ème\nCongrès des Psychanalystes de Langue Française\nLA
 USANNE\nSwiss Tech Convention center - rue Louis Favre 2\, 1024 Ecublens\n
 du jeudi 18 au dimanche 21 mai 2023\n\nAFFECT\, THÉORIE...\nMarina PAPAG
 EORGIOU (SPP)\nPenser l’affect\nL’affect a-t-il toujours raison ?\nAde
 la ABELLA (SSPsa)\nL’analyste et son rapport à la théorie\nOlivier B
 ONARD (SSPsa)\nLes avocats du Ça\nTRADUCTION SIMULTANEE DU FRANÇAIS VE
 RS L’ALLEMAND\nBulletin d'inscription | Programme scientifique complet\n
 Soirée culturelle\nBilleterie sur HelloAsso\nPour toute information conce
 rnant le logement à Lausanne\, veuillez contacter : \nLAUSANNE TOURISME\n
 M. Olivier MOURAUX\nAvenue de Rhodanie 2\nCH-1001 Lausanne\nmouraux@lausan
 ne-tourisme.ch\nTéléphone: +41 21 613 73 15\n__________Activités de tou
 risme à Lausanne__________\n&nbsp\;\n\n 	https://www.lausanne-tourisme.ch
 /fr/offres-speciales/ -&gt\; Page des produits/activités. On peut faire u
 ne réservation directement depuis cette page. \n 	https://www.lausanne-to
 urisme.ch/fr/evenements/ -&gt\; Page regroupant tous les événements se d
 éroulant à Lausanne.\n 	https://www.lausanne-tourisme.ch/fr/expositions/
  -&gt\; Page regroupant toutes les expositions ayant lieu à Lausanne\, no
 tamment au Musée de l’Art Brut.\n\n__________Auf Deutsch__________\n\n\
 n\n\nAnmeldeformular | Programm\n____________________________\n\n\n\n\n[pd
 f-embedder url="https://www.spp.asso.fr/wp-content/uploads/2022/11/CPLF202
 3-PROGRAMME-SCIENTIFIQUE.pdf" width="100%"]
ATTACH;FMTTYPE=image/jpeg:https://www.spp.asso.fr/wp-content/uploads/2022/
 11/CPLF_2023_imaV_3.jpg
CATEGORIES:Colloques,International
LOCATION:SwissTech Convention Center\, Quartier Nord EPFL\, Route Louis-Fav
 re 2\, Ecublens\, 1024\, Canton de Vaud\, Suisse
X-APPLE-STRUCTURED-LOCATION;VALUE=URI;X-ADDRESS=Quartier Nord EPFL\, Route 
 Louis-Favre 2\, Ecublens\, 1024\, Canton de Vaud\, Suisse;X-APPLE-RADIUS=1
 00;X-TITLE=SwissTech Convention Center:geo:0,0
END:VEVENT
BEGIN:VTIMEZONE
TZID:Europe/Paris
X-LIC-LOCATION:Europe/Paris
BEGIN:DAYLIGHT
DTSTART:20230326T030000
TZOFFSETFROM:+0100
TZOFFSETTO:+0200
TZNAME:CEST
END:DAYLIGHT
END:VTIMEZONE
END:VCALENDAR