
BEGIN:VCALENDAR
VERSION:2.0
PRODID:-//wp-events-plugin.com//7.2.3.1//EN
TZID:Europe/Paris
X-WR-TIMEZONE:Europe/Paris
BEGIN:VEVENT
UID:382@spp.asso.fr
DTSTART;TZID=Europe/Paris:20230610T170000
DTEND;TZID=Europe/Paris:20230610T190000
DTSTAMP:20230614T091705Z
URL:https://www.spp.asso.fr/events/effondrement-depressif-du-tout-petit-et
 -qualite-du-jeu-dans-les-psychotherapies-parents-nourrissons-christine-anz
 ieu-premmereur/
SUMMARY:« Effondrement dépressif du tout petit et qualité du jeu dans le
 s psychothérapies parents-nourrissons » — Christine Anzieu-Premmereur
DESCRIPTION:Les psychanalystes de l’association régionale du Nord rattac
 hée à la Société Psychanalytique de Paris vous invitent à participer 
 à une conférence de\nChristine ANZIEU-PREMMEREUR\n(Membre de la Sociét
 é Psychanalytique de Paris et de la Société Psychanalytique de New York
 \, Professeure à l’Université de Columbia et présidente du Comité po
 ur la Psychanalyse de l’Enfant et l’Adolescent de l’API)En visioconf
 érence\n\n\n\n               À l’appui d’illustration
 s cliniques de dyades parents-bébé\, Christine Anzieu-Premmereur nous pa
 rlera du travail avec les parents et les bébés en consultation thérapeu
 tique\, dont la visée peut être préventive et indicative d’un traitem
 ent et souvent « aux limites d’indication de thérapies brèves ».\n
 \nDans notre monde d’excès de stimulation\, d’isolement et de frustra
 tion aggravées durant la pandémie\, les jeunes générations sont de plu
 s en plus déprimées et soumises à des besoins de plus en plus addictifs
 . Les problèmes d’identité sont au centre de ces troubles\, associés 
 maintenant à la question des origines avec les naissances issues des AMP 
 (assistance médicale à la procréation). A l’aube de la vie natale\, 
 être à l’écoute des premiers mouvements de l’interaction parents-b
 ébé —si déterminants pour les fondements de la vie psychique– const
 itue un enjeu crucial. C’est aussi un moment favorable à la rencontre a
 vec un psychanalyste.\n\nPuisque c’est le lien entre parents et enfant q
 ui est engagé dans le travail thérapeutique parents-nourrisson\, comment
  le psychanalyste intervient-il et quels sont ses outils théoriques et te
 chniques ?\nLa dynamique des projections\, des mouvements fantasmatiques 
 et des conflits internes parentaux constituent d’un côté les élément
 s à repérer \; de l’autre il s’agit d’évaluer le développement 
 du Moi corporel\, du surmoi\, des investissements libidinaux et des défen
 ses du Moi primitif du nourrisson… A l’écoute de ces manifestations q
 ui témoignent de la qualité des interactions parents-bébés\, le psycha
 nalyste offre aussi sa faculté de rêverie et de transformation au couple
  ou à la dyade parent-bébé.\n\nPour vous inscrire\, nous vous remercion
 s de nous contacter à l’adresse suivante contactgroupenord@spp-gmail.f
 r\n\n
ATTACH;FMTTYPE=image/jpeg:https://www.spp.asso.fr/wp-content/uploads/2023/
 04/annonce-groupe-nord_10062023_2.jpg
CATEGORIES:Conférences,Groupe Nord - Pas de Calais
LOCATION:ZOOM\, visioconférence\, ZOOM\, -\, -\, -\, France
X-APPLE-STRUCTURED-LOCATION;VALUE=URI;X-ADDRESS=visioconférence\, ZOOM\, -
 \, -\, -\, France;X-APPLE-RADIUS=100;X-TITLE=ZOOM:geo:0,0
END:VEVENT
BEGIN:VTIMEZONE
TZID:Europe/Paris
X-LIC-LOCATION:Europe/Paris
BEGIN:DAYLIGHT
DTSTART:20230326T030000
TZOFFSETFROM:+0100
TZOFFSETTO:+0200
TZNAME:CEST
END:DAYLIGHT
END:VTIMEZONE
END:VCALENDAR