
BEGIN:VCALENDAR
VERSION:2.0
PRODID:-//wp-events-plugin.com//7.2.3.1//EN
TZID:Europe/Paris
X-WR-TIMEZONE:Europe/Paris
BEGIN:VEVENT
UID:162@spp.asso.fr
DTSTART;TZID=Europe/Paris:20200229T090000
DTEND;TZID=Europe/Paris:20200229T180000
DTSTAMP:20200301T064734Z
URL:https://www.spp.asso.fr/events/entendre-la-folie-un-colloque-autour-de
 -loeuvre-de-paulette-letarte/
SUMMARY:« Entendre la folie ». Psychanalyse en psychiatrie\, à partir d
 e l'oeuvre de Paulette Letarte
DESCRIPTION:Colloque de la Société Psychanalytique de Paris\n\n \n« Ent
 endre la folie »\nPsychanalyse en psychiatrie\nColloque organisé par Pau
 l Denis\, Alain Gibeault et Geneviève Welsh\,\nen partenariat avec l’AS
 M13\, les Presses Universitaires de France et la revue Cliniques\, à part
 ir de l’œuvre de Paulette Letarte.\nSamedi 29 février 2020\, de 9h à 
 18h\nASIEM 6 rue Albert Lapparent 75007 PARIS\n&nbsp\;\n\nColloque ouvert 
 aux professionnels de la psychiatrie et de la psychanalyse.\nTélécharger
  le bulletin d'inscription\nInscriptions en ligne : alpage@spp.asso.fr . 
 Nom\, prénom\, e-mail.\nTarifs : plein tarif 60 €- formation continue 1
 20€ - AeF 30 € - Infirmiers\, étudiants 15 €\, joindre un justifi
 catif.\n\nPlaquette du colloque\nArgument\n« On ne naît pas psychothéra
 peute de psychotique\, on le devient »\nPaulette Letarte\nTout psychiatr
 e\, qu’il le veuille ou non\, exerce une forme de psychothérapie. Freud
  faisait remarquer que si le médecin cherchait à éviter la psychothéra
 pie\, le patient de son côté n’était pas du tout disposé à s’en p
 asser. Toute situation psychiatrique implique un échange psychothérapeut
 ique\, celui-ci aura un effet\, bénéfique ou négatif\, mais jamais neut
 re. L’un des apports principaux de la psychanalyse est d’avoir dévelo
 ppé profondément la compréhension de cette dimension relationnelle auss
 i bien du côté du patient — l’ensemble des phénomènes de « trans
 fert » — que du côté du médecin : son « contre-transfert » mai
 s aussi ses contre-attitudes\, d’amour\, de crainte ou de rejet par exem
 ple.\n\nLa folie fait peur\, la comprendre est s’en approcher. Tout un c
 ourant de la psychiatrie d’aujourd’hui s’est davantage organisé dan
 s une perspective d’objectivation — de mise à distance — des troubl
 es psychiques plutôt que dans celle de leur compréhension. La démarche 
 médicale appliquée à la psychiatrie prévaut\, négligeant la spécific
 ité du trouble psychopathologique et la dimension relationnelle de leur s
 urvenue ou de leur déterminisme\, ainsi et surtout que son importance ess
 entielle dans toute entreprise thérapeutique.\n\nSans négliger les appor
 ts des neurosciences et de la psychopharmacologie\, la psychanalyse d’au
 jourd’hui développe l’autre volet de l’exercice de la psychiatrie\,
  c’est-à-dire celui de la compréhension\, celui de la part de la causa
 lité psychique dans les troubles présentés. Ni la psychiatrie ni la psy
 chanalyse n’ont assez de pouvoir pour se passer l’une de l’autre. L
 ’alliance entre psychiatrie et psychanalyse est indispensable.\n\nAborde
 r la façon dont\, subjectivement\, les mouvements psychiques et affectifs
  douloureux ou pathologiques sont vécus est essentiel et conditionne la f
 açon dont les traitements proposés seront acceptés et suivis. Et\, en m
 ilieu institutionnel\, percevoir ce que vivent ensemble le « patient »
  et l’équipe soignante qui s’occupe de lui est la condition nécessai
 re\, même si elle n’est pas suffisante\, à l’obtention des objectifs
  que l’on s’est fixé.\n\nL’expérience des traitements psychanalyti
 ques\, heureux\, de sujets « états limites » ou « psychotiques » 
 montre qu’ils sont le fruit d’une synergie entre l’action d’un psy
 chiatre et celle d’un psychanalyste. L’œuvre de Paulette Letarte est 
 éloquente de ce point de vue.\n\nMais la formation à la psychanalyse dé
 veloppée dans les instituts de psychanalyse ne suffit pas\, il faut « d
 evenir psychothérapeute de psychotique » pour pouvoir assurer un cadre 
 fiable\, supporter dans la durée les vicissitudes d’une relation en gé
 néral difficile\, pour avancer\, finalement vers le rétablissement d’u
 ne organisation psychique vivable \; soutenir patiemment le mouvement du 
 patient qui sent en lui \, disait Antonin Artaud\, « …la place à cher
 cher d’une étoile jamais encore issue dans le vide du cœur ».\nPaul 
 Denis\, Alain Gibeault\, Geneviève Welsh\n&nbsp\;\nProgramme\n&nbsp\;\n\n
 Clarisse Baruch\,Présidente de la Société psychanalytique de Paris\nInt
 roduction au Colloque\n\nModérateur Alain Gibeault\nGeneviève Welsh : 
 L’œuvre de Paulette Letarte. \nPaul Denis : Psychose\, acte et repr
 ésentation.\nMarie-Rose Moro\, Charlotte Perrin-Costantino\, Philippe Ro
 bert : Les « 15-20 ans psychotiques » face au « psy ».\nModérateur
  Xavier Bonnemaison\nJean-Louis Baldacci\, Vassilis Kapsambélis\, Pascale
  de Sainte-Marie : Le premier entretien avec un patient « psychotique 
 ». Discussion à partir d’un premier entretien enregistré de Paulette 
 Letarte.\nModérateur Emmanuelle Chervet\nPsychanalyse et psychiatrie : l
 eur synergie dans le traitement des psychoses.\nDébat entre Florence Quar
 tier et Bertrand Garnier.\nDialogue entre Patrice Huerre et  Vincent Rebi
 ère.\n\nPaul Denis\, Alain Gibeault\, Geneviève Welsh: Conclusions.\n\n&
 nbsp\;\nIntervenants\nClarisse Baruch\, Psychologue\, Membre titulaire et 
 Présidente de la Société Psychanalytique de Paris (SPP)\, Professeur É
 merite de psychologie à Paris Nanterre\,\nJean-Louis Baldacci\, Psychiatr
 e\, Membre titulaire de la SPP\, ancien Directeur du Centre de Consultatio
 ns et de Traitements Psychanalytiques Jean Favreau (CCTP)\nXavier Bonnemai
 son\, Psychiatre\, Praticien Hospitalier\, Chef de Service et Directeur G
 énéral de l’Association de Santé Mentale du 13ème arrondissement de 
 Paris (ASM13)\nEmmanuelle Chervet\, Psychiatre\, Membre titulaire et Secr
 étaire Scientifique de la SPP\nPaul Denis\, Psychiatre\, Membre titulaire
  de la SPP\, Ancien Directeur de la Revue Française de Psychanalyse\nChar
 lotte Perrin-Costantino\, Psychologue clinicienne\, Membre adhérent de la
  SPP\nBertrand Garnier\, Psychiatre\, Praticien Hospitalier\, Chef de serv
 ice du service de Psychiatrie générale CHS Sainte Anne\, chef du Pôle 1
 6èmearrondissement de Paris\nAlain Gibeault\, Psychologue clinicien\, Doc
 teur en Philosophie\, Membre titulaire de la SPP\, Ancien Directeur du Cen
 tre de Psychanalyse et de psychothérapie E. et J. Kestemberg (ASM13)\, An
 cien Président de la Fédération Européenne de Psychanalyse\, Ancien Se
 crétaire  Général de l’Association Psychanalytique Internationale\nP
 atrice Huerre\, Psychiatre des Hôpitaux\, Chef de service de psychiatrie 
 de l’enfant et de l’adolescent (Antony)\nVassilis Kapsambelis\, Psychi
 atre\, Membre titulaire de la SPP\, Directeur du Centre de Psychanalyse et
  de psychothérapie E. et J. Kestemberg de l'ASM13\nMarie-Rose Moro\, Péd
 o-psychiatre et psychiatre d’adolescents\, Professeur des Universités-P
 raticien Hospitalier\, Chef de service de la Maison de Solenn (Cochin\, AP
 -HP)\, Membre adhérent de la SPP\nFlorence Quartier\, Psychiatre\, Membre
  formatrice de la Société Suisse de Psychanalyse\, ancienne Présidente 
 de la section « Psychanalyse en psychiatrie » de l’Association Mondi
 ale de Psychiatrie\nVincent Rebière\, Psychiatre\, Médecin Directeur du 
 Centre Psychothérapique de la Velotte\, Membre adhérent de la SPP\nPhili
 ppe Robert\, Membre adhérent de la SPP\, Membre titulaire de la Société
  Française de Psychothérapie Psychanalytique de Groupe (SFPPG)\,  Profe
 sseur de Psychologie Clinique  à l’Université de Paris\nPascale de Sa
 inte Marie\, Psychiatre\, Membre adhérent de la SPP\, Ancien Directeur du
  Centre Psychothérapique de la Velotte\nGeneviève Welsh\, Psychiatre\, M
 embre adhérent de la SPP\, psychanalyste au Centre de Psychanalyse et de 
 Psychothérapie E. et J. Kestemberg.
ATTACH;FMTTYPE=image/jpeg:https://www.spp.asso.fr/wp-content/uploads/2019/
 11/Entendre_la_folie_visuel.jpg
CATEGORIES:Colloques,Paris
LOCATION:ASIEM\, 6\, Rue Albert de Lapparent\, Paris\, 75007\, France
GEO:48.84832;2.308172
X-APPLE-STRUCTURED-LOCATION;VALUE=URI;X-ADDRESS=6\, Rue Albert de Lapparent
 \, Paris\, 75007\, France;X-APPLE-RADIUS=100;X-TITLE=ASIEM:geo:48.84832,2.
 308172
END:VEVENT
BEGIN:VTIMEZONE
TZID:Europe/Paris
X-LIC-LOCATION:Europe/Paris
BEGIN:STANDARD
DTSTART:20191027T020000
TZOFFSETFROM:+0200
TZOFFSETTO:+0100
TZNAME:CET
END:STANDARD
END:VTIMEZONE
END:VCALENDAR