
BEGIN:VCALENDAR
VERSION:2.0
PRODID:-//wp-events-plugin.com//7.2.3.1//EN
TZID:Europe/Paris
X-WR-TIMEZONE:Europe/Paris
BEGIN:VEVENT
UID:341@spp.asso.fr
DTSTART;TZID=Europe/Paris;VALUE=DATE:20220929
DTEND;TZID=Europe/Paris;VALUE=DATE:20221002
DTSTAMP:20221002T103031Z
URL:https://www.spp.asso.fr/events/epcus-29-septembre-1er-octobre-2022/
SUMMARY:EPCUS 29 septembre-1er octobre 2022
DESCRIPTION:[pdf-embedder url="https://www.spp.asso.fr/wp-content/uploads/2
 022/09/epcus-2022-leaflet.pdf" title="epcus 2022 leaflet" width="100%"]\nP
 age de l'évènement : www.epf-fep.eu
ATTACH;FMTTYPE=image/jpeg:https://www.spp.asso.fr/wp-content/uploads/2022/
 09/210308_epcus7_ima.jpg
CATEGORIES:International
LOCATION:Maison de la FEP\, Rue Gérard 35\, Etterbeek\, 1040\, Bruxelles\,
  Belgique
X-APPLE-STRUCTURED-LOCATION;VALUE=URI;X-ADDRESS=Rue Gérard 35\, Etterbeek\
 , 1040\, Bruxelles\, Belgique;X-APPLE-RADIUS=100;X-TITLE=Maison de la FEP:
 geo:0,0
END:VEVENT
BEGIN:VTIMEZONE
TZID:Europe/Paris
X-LIC-LOCATION:Europe/Paris
BEGIN:DAYLIGHT
DTSTART:20220327T030000
TZOFFSETFROM:+0100
TZOFFSETTO:+0200
TZNAME:CEST
END:DAYLIGHT
END:VTIMEZONE
END:VCALENDAR