
BEGIN:VCALENDAR
VERSION:2.0
PRODID:-//wp-events-plugin.com//7.2.3.1//EN
TZID:Europe/Paris
X-WR-TIMEZONE:Europe/Paris
BEGIN:VEVENT
UID:458@spp.asso.fr
DTSTART;TZID=Europe/Paris;VALUE=DATE:20240403
DTEND;TZID=Europe/Paris;VALUE=DATE:20240406
DTSTAMP:20241007T112719Z
URL:https://www.spp.asso.fr/events/epcus-9th-european-psychoanalytic-confe
 rence-for-university-students-why-war/
SUMMARY:EPCUS 9th European Psychoanalytic Conference for University Student
 s : Why War ?
DESCRIPTION:\nEPF House Brussels and Online\nOct. 3 – 5\, 2024\nRenseigne
 ments et inscription sur le site de la FEP
ATTACH;FMTTYPE=image/jpeg:https://www.spp.asso.fr/wp-content/uploads/2024/
 04/EPCUS9_why-war_ima-e1726045787422.jpg
CATEGORIES:Colloques
LOCATION:Maison de la FEP\, Rue Gérard 35\, Etterbeek\, 1040\, Bruxelles\,
  Belgique
X-APPLE-STRUCTURED-LOCATION;VALUE=URI;X-ADDRESS=Rue Gérard 35\, Etterbeek\
 , 1040\, Bruxelles\, Belgique;X-APPLE-RADIUS=100;X-TITLE=Maison de la FEP:
 geo:0,0
END:VEVENT
BEGIN:VTIMEZONE
TZID:Europe/Paris
X-LIC-LOCATION:Europe/Paris
BEGIN:DAYLIGHT
DTSTART:20240331T030000
TZOFFSETFROM:+0100
TZOFFSETTO:+0200
TZNAME:CEST
END:DAYLIGHT
END:VTIMEZONE
END:VCALENDAR